BEGIN:VCALENDAR
VERSION:2.0
PRODID:-//tapahtumainfo.fi//NONSGML ErÃ¤retkeilyn edellÃ¤kÃ¤vijÃ¤t//EN
METHOD:REQUEST
BEGIN:VEVENT
UID:20260421T135739-1602757546-tapahtumainfo.fi
DTSTAMP:20260421T135739
DTSTART:20260220T020000Z
DTEND:20500101T020000Z
LOCATION:Suomen MetsÃ¤stysmuseo
SUMMARY:ErÃ¤retkeilyn edellÃ¤kÃ¤vijÃ¤t
DESCRIPTION:<html><head></head><body>MiltÃ¤ nÃ¤yttivÃ¤t retkeilyvÃ¤lineet lapinkirjailija Kullervo Kemppisen aikaan ja miltÃ¤ ne nÃ¤yttÃ¤vÃ¤t nyt, 60 vuotta ErÃ¤retkeily-kirjan julkaisemisesta? Suomen MetsÃ¤stysmuseon ErÃ¤retkeilyn edellÃ¤kÃ¤vijÃ¤t -nÃ¤yttely vie kÃ¤vijÃ¤n vuosikymmenten taakse ja esittelee Kemppisen aidot vaellusvarusteet sekÃ¤ leikittelee ajatuksella, millaiset retkeilyvÃ¤lineet hÃ¤n olisi tÃ¤nÃ¤ pÃ¤ivÃ¤nÃ¤ valinnut.<br><br>Lapinkirjoistaan tunnettu Kullervo Kemppinen (1921â2012) oli ahkera vaeltaja ja innokas retkeilijÃ¤, jonka teoksissa kuuluvat luonnon kutsu ja tunturien tarinat. Kemppinen mielletÃ¤Ã¤n usein perinteisen erÃ¤elÃ¤mÃ¤n vaalijaksi, mutta vuonna 1966 julkaistu ErÃ¤retkeily-kirja paljastaa hÃ¤nen modernin ja kÃ¤ytÃ¤nnÃ¶llisen suhtautumisensa varusteisiin. Kemppinen painottaa keveyttÃ¤ ja tarkoituksenmukaisuutta romantisoitujen mutta epÃ¤kÃ¤ytÃ¤nnÃ¶llisten vÃ¤lineiden sijaan.<br><br>Kirjassa hÃ¤n kuvaa kÃ¤yttÃ¤miÃ¤Ã¤n varusteita tarkasti ja perustelee valintojaan nykytekniikan tarjoamilla eduilla: &quot;Itse valitsen mieluiten nykytekniikan retkeilijÃ¤lle tarjoamien tuotteiden edut: muovisaappaat, muoviastiat ja nylonkankaisen louteen sekÃ¤ plastik-sadevaran. Ne ovat kevyitÃ¤, kestÃ¤viÃ¤ ja kÃ¤ytÃ¤nnÃ¶llisiÃ¤, suorastaan ylivoimaisia monien kieltÃ¤mÃ¤ttÃ¤ kyllÃ¤kin romanttisempien, mutta auttamattoman vanhanaikaisten ja epÃ¤kÃ¤ytÃ¤nnÃ¶llisten vÃ¤lineiden rinnallaâ, Kemppinen julistaa. TekstistÃ¤ vÃ¤littyy vahva tieto ja ymmÃ¤rrys retkeilyn vaatimuksista.<br><br>NÃ¤yttelyssÃ¤ Kemppisen alkuperÃ¤isten varusteiden rinnalle on koottu Kemppisen valinnat 2026 â nykyaikaisia retkeilyvÃ¤lineitÃ¤, joita hÃ¤n olisi voinut tÃ¤nÃ¤ pÃ¤ivÃ¤nÃ¤ suosia. Kirjassaan Kemppinen mainitsee useasti Partioaitan, josta hankki varusteitaan. Onkin luontevaa, ettÃ¤ nÃ¤yttelyn yhteistyÃ¶kumppanina on jo vuodesta 1928 retkeilyvÃ¤linemyyntiÃ¤ harjoittanut Partioaitta Oy.<br><br>ErÃ¤retkeilyn edellÃ¤kÃ¤vijÃ¤t -nÃ¤yttelyn on suunnitellut ja kÃ¤sikirjoittanut retkeilytoimittaja Joppe Ranta yhdessÃ¤ Suomen MetsÃ¤stysmuseon kanssa. NÃ¤yttely on pysyvÃ¤ osa museon uudistuvaa perusnÃ¤yttelyÃ¤. <br /><br />  Visit event in our website: <a href='https://tapahtumainfo.fi/tapahtuma/2026/02/er-retkeilyn-edell-k-vij-t/422829'>Tapahtumainfo.fi</a></body></html>
END:VEVENT
END:VCALENDAR
