BEGIN:VCALENDAR
VERSION:2.0
PRODID:-//tapahtumainfo.fi//NONSGML Rakkauskirjeitä - Seela Sella ja Esko Roine//EN
METHOD:REQUEST
BEGIN:VEVENT
UID:20260426T051428-199534372-tapahtumainfo.fi
DTSTAMP:20260426T051428
DTSTART:20261001T180000Z
DTEND:20261001T020000Z
LOCATION:Riihimäen Teatteri
SUMMARY:Rakkauskirjeitä - Seela Sella ja Esko Roine
DESCRIPTION:<html><head></head><body>Andrew ja Melissa ovat lapsuudenystäviä, jotka pitävät toisiinsa yhteyttä läpi vuosikymmenten kirjoittamalla kirjeitä. He elävät tahoillaan elämäänsä, rakentavat uraa ja parisuhteita, keski-ikäistyvät ja vanhenevat. Toisinaan jompikumpi ehdottaa tapaamista.<br><br>Rakkauskirjeitä on kahden hengen näytelmä, jonka rooleissa nähdään yhdet Suomen rakastetuimmista näyttelijöistä, Seela Sella ja Esko Roine. Tätä näytelmää ovat maailmalla aiemmin esittäneet muun muassa näyttelijät Elizabeth Taylor, Gerard Depardieu, Mia Farrow ja Tom Hanks.<br><br>Näytelmän luonteeseen kuuluu, että sitä ei missään nimessä saa opetella ulkoa, vaan esitys tapahtuu hetkessä, tässä ja nyt. Luvassa ei ole pikkusievää muistelua tai kaihoisaa nostalgiaa, vaan kirjeenvaihto on elämänmakuista, räävitöntä ja hauskaa. <br /><br />  Visit event in our website: <a href='https://tapahtumainfo.fi/tapahtuma/2026/10/rakkauskirjeita-seela-sella-ja-esko-roine/424067'>Tapahtumainfo.fi</a></body></html>
END:VEVENT
END:VCALENDAR
