BEGIN:VCALENDAR
VERSION:2.0
PRODID:-//tapahtumainfo.fi//NONSGML Risto (yhtye)//EN
METHOD:REQUEST
BEGIN:VEVENT
UID:20260423T042333-2139015295-tapahtumainfo.fi
DTSTAMP:20260423T042333
DTSTART:20260425T203000Z
DTEND:20260425T020000Z
LOCATION:Dynamo
SUMMARY:Risto (yhtye)
DESCRIPTION:<html><head></head><body><b>Risto </b>on parhaita rock-yhtyeitä tässä maassa. Ikinä. Risto Ylihärsilän, Ninni Luhtasaaren, Ville Leinosen ja Tuomas Erikssonin muodostama kvartetti heittäytyy keikoilla päätä pahkaa rockin kiihkeään, vaaralliseen, arveluttavaan ja arvaamattomaan universumiin. <br /><br />  Visit event in our website: <a href='https://tapahtumainfo.fi/tapahtuma/2026/04/risto-yhtye/424087'>Tapahtumainfo.fi</a></body></html>
END:VEVENT
END:VCALENDAR
