BEGIN:VCALENDAR
VERSION:2.0
PRODID:-//tapahtumainfo.fi//NONSGML Tekstaripalsta 2//EN
METHOD:REQUEST
BEGIN:VEVENT
UID:20260422T114035-224670914-tapahtumainfo.fi
DTSTAMP:20260422T114035
DTSTART:20260314T180000Z
DTEND:20260314T020000Z
LOCATION:Crusell-sali, Kullervontie 11 A
SUMMARY:Tekstaripalsta 2
DESCRIPTION:<html><head></head><body><b>Tekstaripalsta 2</b><br><br>Uudenkaupungin Sanomien tekstarit näyttämöversioksi! Paikallisia ääniä, mielipiteitä ja huumoria eli harvinaista herkkua: Tekstaripalsta 2 - Koominen tutkimusmatka ukilaisuuden ytimeen. Keitä me olemme? Mistä me tulemme? Mihin me olemme matkalla?<br><br>Vastaus kaikkeen löytyy: Tekstaripalstalta!<br><br>Tule ja makustele napakka näytelmä!<br>Kesto n tunnin.<br><br>Ohjaus Jari Luolamaa<br>Yhteistyössä Uudenkaupungin Sanomat<br><br>Tilaa tästä teatterin infokirje<br>https://dm-mailinglist.com/subscribe?f=cf4f6cde<br>*Eva<br><br>Kaikki esitykset:<br>To 05.03. klo 19.<br>La 07.03. klo 13.<br>La 14.03. klo 18.<br>Ke 18.03. klo 19.<br> <br /><br />  Visit event in our website: <a href='https://tapahtumainfo.fi/tapahtuma/2026/03/tekstaripalsta-2/424449'>Tapahtumainfo.fi</a></body></html>
END:VEVENT
END:VCALENDAR
