BEGIN:VCALENDAR
VERSION:2.0
PRODID:-//tapahtumainfo.fi//NONSGML Sam's Comedy Club: VIIDEN TÄHDEN ILTA K-18//EN
METHOD:REQUEST
BEGIN:VEVENT
UID:20260420T095532-2038614118-tapahtumainfo.fi
DTSTAMP:20260420T095532
DTSTART:20260425T200000Z
DTEND:20260425T020000Z
LOCATION:Apollo Live Club
SUMMARY:Sam's Comedy Club: VIIDEN TÄHDEN ILTA K-18
DESCRIPTION:<html><head></head><body><b>Sam’s Comedy Club</b><br><br>Sam’s Comedy Club tuo lavalle stand up -komiikan koko kirjon neljän erilaisen illan muodossa.<br><br>Kaksi illoista on sooloesityksiä, <b>Aleksandr Popov</b> ja <b>Sami Hedberg</b>,  joissa yksi koomikko valtaa lavan koko illaksi ja vie yleisön ainutlaatuiselle matkalle. Yhtenä iltana lavan valloittavat uudet koomikot, stand up -kentän nousevat tähdet, illan isäntänä toimii huikea<b> Heikki Vilja</b>. Tämä ilta on täynnä tuoreita näkökulmia ja raikasta energiaa.<br><br>Neljäs ilta kokoaa yhteen konkari koomikot, <b>Ali Jahangiri</b>, <b>Anders Helenius</b> ja <b>Anitta Ahonen</b>, joilla on takanaan vuosien kokemus.<br><br>Varmaa on se, että jokainen näistä illoista on naurettavan hauska!<br><br><b>Vip-tilat – erityisen hauskoihin iltoihin</b><br><br>Vietätpä pikkujouluja, polttareita, synttäreitä tai asiakasiltaa, tekee Sam’s Comedy Clubin Vip-tilat illanvietostasi nautinnollisen helppoa! Vip-lippuun sisältyy sisäänpääsy jonon ohi, eteispalvelumaksu, oma loossi ja mahdollisuus tilata juomat valmiiksi pöytään, joten seurueesi voi keskittyä pelkästään hauskanpitoon.<br><br>Vip Pöytä, Alakerta 5 henkeä.  /  Vip Aitio, Yläkerta 4 henkeä. / Vip Parvi, Yläkerta 4  henkeä.<br><br>Vip pöytä, -aitio ja -parvi -liput ovat pöytäkohtaisia, eli toivomme seurueen saapuvan yhdessä. Sisäänpääsy on jonon ohi ja saapuessanne teidät ohjataan pöytäänne.<br><br>Erikseen tiedusteltavissa: info@samscomedyclub.com <br>•VIP LOUNGE = AITIOT 1-4 + oma lounge tila, jossa oma baari. (istuinpaikat 16.henkilöä, max 20.henkilöä) <br>• VIP YLÄKERTA = koko yläkerta (min. 80hlö)<br><br>Lue lisää  <a href="https://samscomedyclub.com/viptable" target="_blank">täältä</a><br><br>Sam’s Comedy Club<br><br>Apollo Live Club, Mannerheimintie 16, 00100 Helsinki<br><br><a href="samscomedyclub.com" target="_blank">www.samscomedyclub.com</a><br><br>• Ovet avataan 30min. ennen esitystä<br>• Esitysten kesto n. 1 h 45 min. sisältäen väliajan<br>• Ikäraja 18 vuotta<br>• Eteispalvelumaksu (4 €) ei sisälly pääsylippujen hintaan<br>• Alennuksiin oikeuttavat kortit ja todistukset tarkastetaan ovella<br>• Lippuja saatavilla ovelta, mikäli tapahtuma ei ole ennakkoon loppuunmyyty<br>• Stand up -lipulla voi jäädä juhlimaan Apolloon aukioloaikojen puitteissa<br><br>Oikeudet muutoksiin pidätetään.<br> <br /><br />  Visit event in our website: <a href='https://tapahtumainfo.fi/tapahtuma/2026/04/sam-s-comedy-club-viiden-tahden-ilta-k-18/424902'>Tapahtumainfo.fi</a></body></html>
END:VEVENT
END:VCALENDAR
