BEGIN:VCALENDAR
VERSION:2.0
PRODID:-//tapahtumainfo.fi//NONSGML Finnair Pilots' Big Band feat. Sami Pitkämö & Sari Tuliniemi//EN
METHOD:REQUEST
BEGIN:VEVENT
UID:20260420T113337-2043179606-tapahtumainfo.fi
DTSTAMP:20260420T113337
DTSTART:20260310T190000Z
DTEND:20260310T020000Z
LOCATION:Malmitalo
SUMMARY:Finnair Pilots' Big Band feat. Sami Pitkämö & Sari Tuliniemi
DESCRIPTION:<html><head></head><body><b>Finnair Pilots’ Big Band feat.</b> Sami Pitkämö & Sari Tuliniemi ti 10.3.2026 klo 19.00<br><br>Finnair Pilots´ Big Band palaa jälleen Malmitaloon upeiden solistien, Sami Pitkämön sekä Sari Tuliniemen kera.<br><br>Sari on pitkän linjan finnairilainen sekä tuttu useimpien big bandien riveistä. Konsertissa kuullaan lennokasta musiikkia, Sami Pitkämön levytyskappaleita sekä hienoja big band -klassikoita. Tästä konsertista ei tulkintaa eikä tunnelmaa tule puuttumaan.<br><br>Tervetuloa lennolle!<br><br>Kesto 1 t 45 min, sis. väliaika 20 min <br /><br />  Visit event in our website: <a href='https://tapahtumainfo.fi/tapahtuma/2026/03/finnair-pilots-big-band-feat-sami-pitkamo-sari-tuliniemi/424990'>Tapahtumainfo.fi</a></body></html>
END:VEVENT
END:VCALENDAR
