BEGIN:VCALENDAR
VERSION:2.0
PRODID:-//tapahtumainfo.fi//NONSGML Tyttöjen sirkusillat//EN
METHOD:REQUEST
BEGIN:VEVENT
UID:20260420T142351-297571332-tapahtumainfo.fi
DTSTAMP:20260420T142351
DTSTART:20260515T183000Z
DTEND:20260515T020000Z
LOCATION:Sirkus Magenta, kauppakeskus Itis
SUMMARY:Tyttöjen sirkusillat
DESCRIPTION:<html><head></head><body><p>13–17 -vuotiaille suunnatuissa tyttöjen illoissa pääsee kokeilemaan ja harjoittelemaan eri sirkuslajeja, hengailemaan ja tapaamaan muita nuoria. Illat ovat maksuttomia eikä niihin tarvitse ilmoittautua etukäteen.</p><p>Sirkus Magentan sirkustilassa on käytössä muun muassa iso trampoliini, nuora sekä monipuolisesti ilma-akrobatia- ja jongleerausvälineitä. Paikalla on kaksi Sirkus Magentan sirkusohjaajaa.</p><br> <br /><br />  Visit event in our website: <a href='https://tapahtumainfo.fi/tapahtuma/2026/01/tyttojen-sirkusillat/426339'>Tapahtumainfo.fi</a></body></html>
END:VEVENT
END:VCALENDAR
