BEGIN:VCALENDAR
VERSION:2.0
PRODID:-//tapahtumainfo.fi//NONSGML Vesterinen Yhtyeineen//EN
METHOD:REQUEST
BEGIN:VEVENT
UID:20260420T222845-983571354-tapahtumainfo.fi
DTSTAMP:20260420T222845
DTSTART:20260814T020000Z
DTEND:20260814T020000Z
LOCATION:Juhlatalo Juurikkasaari
SUMMARY:Vesterinen Yhtyeineen
DESCRIPTION:<html><head></head><body><p><strong>Vesterinen Yhtyeineen palaa konsertoimaan Juurikkasaareen kesällä 2026!</strong></p><br /><p>Hurmoksellisista livekeikoistaan tunnettu Vesterinen Yhtyeineen palaa konsertoimaan Jyväskylän Juurikkasaaren ulkolavalle perjantaina 14. elokuuta. Kahtena edellisvuonna Juurikkasaaren keikkansa loppuunmyyneellä yhtyeellä on tällä kertaa mukanaan uutta musiikkia, sillä bändi julkaisee yhdeksännen studioalbuminsa<em> Liian hiljaista</em> 6. maaliskuuta.</p><br /><p>Tuleva levy on ison bändin yhteissoiton juhlaa, vastavoima valtavirtaistuneelle tuottaja-vetoiselle digitaaliselle musiikille. Albumi puolustaa yhtyeelle tärkeitä asioita kuten yhteisöllisyyttä, rauhaa ja rakkautta. Vakavampien uusien laulujen vastapainoksi levynjulkaisukiertueella on luvassa tietenkin myös yhtyeen vanhempia mestariteoksia niin paljon kuin sielu sietää. Tero Vesterisen kipparoiman kymmenhenkisen yhtyeen tunnetuimpia hittejä ovat Kohti sydänpeltoja, Tummilla teillä, Kukaan ei koskaan, Kolme hyvää vinkkiä ja Onnellinen mies.</p><br /><p>Illassa esiintyy myös jyväskyläläinen rock-yhtye Oliver, joka jatkaa sisälavalla heti Vesterinen Yhtyeineen keikan jälkeen.</p><br /><p><strong>Aikataulu:<br></strong>17:00 ovet<br>17:00-19:30 dinner<br>20:00 Vesterinen Yhtyeineen<br>21:30 Oliver (sisälava)</p><br /><br /><p><strong><br>Esteettömyys</strong><br>Avustaja pääsee tapahtumaan ilmaiseksi avustettavan kanssa samalla lipulla<strong>.</strong><br>Tapahtumaan on esteetön pääsy pyörätuolilla.</p> <br /><br />  Visit event in our website: <a href='https://tapahtumainfo.fi/tapahtuma/2026/08/vesterinen-yhtyeineen/426448'>Tapahtumainfo.fi</a></body></html>
END:VEVENT
END:VCALENDAR
