BEGIN:VCALENDAR
VERSION:2.0
PRODID:-//tapahtumainfo.fi//NONSGML Big Botanicin taimet//EN
METHOD:REQUEST
BEGIN:VEVENT
UID:20260419T174503-234923839-tapahtumainfo.fi
DTSTAMP:20260419T174503
DTSTART:20260204T020000Z
DTEND:20260511T020000Z
LOCATION:Teresia ja Rafael LÃ¶nnstrÃ¶min kotimuseo
SUMMARY:Big Botanicin taimet
DESCRIPTION:<html><head></head><body>Taiteilija Pia SirÃ©nin Big Botanic -teos oli esillÃ¤ Raumalla Parpansalin kentÃ¤llÃ¤ viime syksynÃ¤. Teoksessa oli kaikille avoin tyÃ¶paja, jossa kÃ¤vijÃ¤t tekivÃ¤t omia kasvitaimia samankaltaisista materiaaleista, joita SirÃ©n kÃ¤yttÃ¤Ã¤ teoksissaan. <br><br>TyÃ¶pajassa kaiken ikÃ¤iset kÃ¤vijÃ¤t tekivÃ¤t oman mielikuvituskasvin kÃ¤yttÃ¤en materiaaleina muun muassa nippusiteitÃ¤, teippejÃ¤, naruja ja puutarhaletkua. Taimet sai nimetÃ¤ ja jÃ¤ttÃ¤Ã¤ tyÃ¶pajatilaan rakennetuille hyllyille osaksi teosta. Useat taimista oli nimetty hauskasti ja oivaltavasti, kuten bestselleri, puutarharetku, pubiruusu ja huoltovapaa kasvi.<br><br>TyÃ¶paja osoittautui huippusuosituksi. Teoksessa vierailleet kÃ¤vijÃ¤t tekivÃ¤t kahden kuukauden aikana yhteensÃ¤ noin kaksituhatta mielikuvitustaimea. Otos nÃ¤istÃ¤, 180 taimea, on esillÃ¤Â  Teresia ja Rafael LÃ¶nnstrÃ¶min kotimuseon Galleriassa.<br><br>Pia SirÃ©nin Big Botanic on seitsemÃ¤s nykytaiteen LÃ¶nnstrÃ¶m-projekti. SÃ¤Ã¤suojatelineistÃ¤ rakennettu tila kÃ¤tki sisÃ¤Ã¤nsÃ¤ keinotekoisen, mutta vehreÃ¤nÃ¤ kukoistavan kasvitieteellisen puutarhan, jonka kasvillisuuden materiaaleina oli pressua, muoveja, kÃ¶ysiÃ¤, Ã¤mpÃ¤reitÃ¤ ja muuta tyÃ¶maiden tavaraa. <br /><br />  Visit event in our website: <a href='https://tapahtumainfo.fi/tapahtuma/2026/02/big-botanicin-taimet/426457'>Tapahtumainfo.fi</a></body></html>
END:VEVENT
END:VCALENDAR
