BEGIN:VCALENDAR
VERSION:2.0
PRODID:-//tapahtumainfo.fi//NONSGML Juha VehmaanperÃ¤: Craft Punk//EN
METHOD:REQUEST
BEGIN:VEVENT
UID:20260424T150405-1181788565-tapahtumainfo.fi
DTSTAMP:20260424T150405
DTSTART:20260220T020000Z
DTEND:20260906T020000Z
LOCATION:Arkkitehtuuri- ja designmuseo
SUMMARY:Juha VehmaanperÃ¤: Craft Punk
DESCRIPTION:<html><head></head><body>Juha VehmaanperÃ¤ on neuletaiteilija, jonka tyÃ¶ keskittyy hitaaseen muotiin, queer-teoriaan ja kÃ¤sityÃ¶taitoon. VehmaanperÃ¤ toteuttaa projekteja, joissa perinteiset kÃ¤sityÃ¶tekniikat yhdistyvÃ¤t moderneihin lÃ¤hestymistapoihin ja teknologioihin. VehmaanperÃ¤n tyÃ¶skentelyÃ¤ leimaa yhteisÃ¶llisyys, DIY- kulttuurin edistÃ¤minen ja perinteiden uudistaminen.<br><br>Arkkitehtuuri- ja designmuseossa nÃ¤htÃ¤vÃ¤ kokonaisuus on VehmaanperÃ¤n ensimmÃ¤inen laajamittainen yksityisnÃ¤yttely, joka kokoaa yhteen VehmaanperÃ¤n viime vuosien keskeisiÃ¤ teoksia, materiaalikokeiluja, tyÃ¶skentelyprosessinkuvauksia ja osallistavia yhteisÃ¶teoksia.<br><br>VehmaanperÃ¤ valmistui taiteen maisteriksi Aalto-yliopiston Fashion, Clothing and Textile Design -ohjelmasta, ja on tyÃ¶skennellyt opettajana useissa taide- ja muotoilukouluissa, kuten Aalto-yliopistossa, Teho-Opistossa ja Helsingin tyÃ¶vÃ¤enopistossa.<br><br>VehmaanperÃ¤lle myÃ¶nnettiin marraskuussa 2025 vuoden Taito Finlandia -palkinto.<br><br>VehmaanperÃ¤n tuotanto on saanut laajaa kansainvÃ¤listÃ¤ huomiota: hÃ¤nen teoksiaan on esitetty muun muassa HyÃ¨resin muotifestivaalilla Ranskassa, Dutch Design WeekillÃ¤, Pitti Filatissa Italiassa, New York Textile Monthilla sekÃ¤ useissa muissa merkittÃ¤vissÃ¤ muotoilun ja taiteen nÃ¤yttelyissÃ¤ Euroopassa. TÃ¤mÃ¤n lisÃ¤ksi VehmaanperÃ¤ on tyÃ¶skennennellyt harjoittelijana Acne Studiosin neuletiimissÃ¤ Tukholmassa, Ruotsissa.<br><br>Kuva: Diana Luganski <br /><br />  Visit event in our website: <a href='https://tapahtumainfo.fi/tapahtuma/2026/02/juha-vehmaanper--craft-punk/426472'>Tapahtumainfo.fi</a></body></html>
END:VEVENT
END:VCALENDAR
