BEGIN:VCALENDAR
VERSION:2.0
PRODID:-//tapahtumainfo.fi//NONSGML Antti Paalanen + Mari Kalkun//EN
METHOD:REQUEST
BEGIN:VEVENT
UID:20260425T200341-1624147566-tapahtumainfo.fi
DTSTAMP:20260425T200341
DTSTART:20260507T020000Z
DTEND:20260507T020000Z
LOCATION:G Livelab Tampere
SUMMARY:Antti Paalanen + Mari Kalkun
DESCRIPTION:<html><head></head><body><p><strong></strong><strong>UMK:ssa tänä keväänä hurmaava Antti Paalanen sekä virolainen rakastettu kansanmuusikko Mari Kalkun esiintyvät yhteisessä keikkaillassa G Livelabissa!</strong><br><br>Esiintymisjärjestys:<br>Mari Kalkun<br>Antti Paalanen<br><br>Kokkolalaisen Antti Paalasen kohtalon villinä hanuristina saneli onnellinen vahinko: nuori Antti käveli soitinkauppaan sähkökitaran kuva silmissä kiiltäen, mutta huomion veikin kaunis ja kiehtova haitari. Siltä tieltä ei ole ollut paluuta, ja jo vuosien ajan Paalanen on hurmannut keikkayleisöjä ympäri maailmaa.<br><br>Viime kuukausina Paalanen on noussut valtavan suosituksi someilmiöksi haitaricovereillaan mm. Daruden ja Rammsteinin kappaleista. Antin hanurikoulu -videoilla on miljoonia katselukertoja. Uuden harppauksen urallaan Paalanen otti tänä keväänä, kun hän hurmasi kotimaan yleisön ja kansainväliset Euroviisu-fanit UMK-kappaleellaan&nbsp;“Takatukka”.<br><br>Antti Paalasen musiikillinen keitos on kehittynyt luontevasti, sillä jo lapsena häntä kiehtoi yhtä lailla kansalaisopiston haitaripiiri kuin MusicTV:n kautta tajuntaan iskeneet Twisted Sister, W.A.S.P. ja AC/DC.  Matkan varrella haitarin ohella mukaan tarttui myös mongolialaiseen perinteeseen pohjautuva kurkkulaulu, jonka tekniikkaa Paalanen hyödyntää syvällä örisevässä laulussaan. Reseptillä on syntynyt jo neljä sooloalbumia.<br><br>Illan avaava Mari Kalkun on palkittu virolainen multi-instrumentalisti, laulaja ja säveltäjä. Hänen laulunsa ammentavat inspiraationsa luonnosta sekä virolaisesta runoudesta ja kansanmusiikista. Esiintyessään hän soittaa muun muassa kannelta, pianoa, haitaria, kitaraa ja puhaltimia. Kalkun on hurmannut kansainvälisiä yleisöjä mm. WOMEXissa, Celtic Connectionsissa, WOMAD UK:ssa ja festivaaleilla ympäri maailman, ja hänet on palkittu vuoden artistina kotimaassaan Virossa.</p><br /><p><a href="https://www.facebook.com/glivelab.tampere/" target="_blank">Facebook</a> <br><a href="https://www.instagram.com/glivelabtampere/" target="_blank">Instagram</a> <br> <a href="https://twitter.com/glivelabtampere" target="_blank">Twitter</a></p><br /><br /><p>Lipun hinta sisältää 3 € eteispalvelumaksun.<br></p><br /><p><em>***<br></em></p><br /><p><em> </em></p><br /><p><strong>G LIVELAB TAMPERE - TURVALLISUUSOHJE</strong></p><br /><p>Tutustu ajantasaisiin turvallisuusohjeisiin <a href="https://www.glivelab.fi/tampere/turvallisuus" target="_blank">G Livelab Tampereen sivuilla</a>.<a href="https://www.glivelab.fi/tampere/turvallisuus" target="_blank"></a></p><br /><p>***</p><br /><p><strong>Esteettömyys: </strong><br></p><br /><p>Avustaja pääsee tapahtumaan ilmaiseksi avustettavan kanssa samalla lipulla: <strong>kyllä</strong><br>Tapahtumaan on esteetön pääsy pyörätuolilla: <strong>kyllä </strong><br>Tapahtumapaikalla on esteetön WC: <strong>kyllä</strong><br>Tapahtumassa on pyörätuolikoroke: <strong>ei</strong><br></p><br /><p>Katso tarkemmat esteettömyystiedot <a href="https://glivelab.fi/tampere/info/" target="_blank">G Livelabin sivuilla</a>.<br></p> <br /><br />  Visit event in our website: <a href='https://tapahtumainfo.fi/tapahtuma/2026/05/antti-paalanen-mari-kalkun/427349'>Tapahtumainfo.fi</a></body></html>
END:VEVENT
END:VCALENDAR
