BEGIN:VCALENDAR
VERSION:2.0
PRODID:-//tapahtumainfo.fi//NONSGML Rap SM Freestyle Battle 2026//EN
METHOD:REQUEST
BEGIN:VEVENT
UID:20260420T055439-1788458156-tapahtumainfo.fi
DTSTAMP:20260420T055439
DTSTART:20261031T020000Z
DTEND:20261031T020000Z
LOCATION:Valkoinen Sali
SUMMARY:Rap SM Freestyle Battle 2026
DESCRIPTION:<html><head></head><body><p><strong>Suomen tykeimmät freestyle-räppäritkokoontuvat jälleen yhteen kun Suomen pitkäikäisin hip hop tapahtuma antaa mahdollisuuden näyttää kenen improvisointi on päästä parhaasta!</strong></p><br /><p><a href="https://rapsm.fi/" target="_blank">www.rapsm.fi</a><br><a href="https://www.youtube.com/RapSMFstyleBattle" target="_blank">www.youtube.com/RapSMFstyleBattle</a><br></p><br /><br /><p>Ei ikärajaa, rajattu anniskelualue. Tapahtumapaikalta saa poistua esim syömään jolloin eteispalvelumaksua ei tarvitse maksaa uudestaan.</p><br /><p>Super Early Bird -lippuja myynnissä rajoitettu erä.</p><br /><p>Liput ovelta 20 €. Eteispalvelumaksu 4 €. </p><br /><p>Osallistumisohjeet kilpailijoille: <a href="https://www.rapsm.fi" target="_blank">www.rapsm.fi</a></p><br /><p><strong>Esteettömyys:</strong><br><br />Avustaja pääsee tapahtumaan ilmaiseksi avustettavan kanssa samalla lipulla: <strong>kyllä</strong><br><br />Tapahtumaan on esteetön pääsy pyörätuolilla: <strong>ei</strong><br><br />Tapahtumapaikalla on esteetön WC: <strong>ei</strong><br><br />Tapahtumapaikalla on mahdollisuus induktiosilmukan käyttöön: <strong>ei</strong><br><br />Tapahtumassa on pyörätuolikoroke: <strong>ei</strong></p> <br /><br />  Visit event in our website: <a href='https://tapahtumainfo.fi/tapahtuma/2026/10/rap-sm-freestyle-battle-2026/427365'>Tapahtumainfo.fi</a></body></html>
END:VEVENT
END:VCALENDAR
