BEGIN:VCALENDAR
VERSION:2.0
PRODID:-//tapahtumainfo.fi//NONSGML Johdanto nÃ¤yttelyyn YÃ¶ ruotsiksi//EN
METHOD:REQUEST
BEGIN:VEVENT
UID:20260421T225659-205651764-tapahtumainfo.fi
DTSTAMP:20260421T225659
DTSTART:20260821T020000Z
DTEND:20260821T020000Z
LOCATION:Sinebrychoffin taidemuseo
SUMMARY:Johdanto nÃ¤yttelyyn YÃ¶ ruotsiksi
DESCRIPTION:<html><head></head><body>Opas johdattelee sinut nÃ¤yttelyn teemoihin kuvaesityksen avulla. Voit nauttia johdannosta mukavasti seminaaritilassa istuen ja sen jÃ¤lkeen tutustua nÃ¤yttelyyn omaan tahtiisi.<br><br>Kesto: 20 min.<br>RyhmÃ¤koko: 80.<br>Museolipulla.<br><br>Paikat tÃ¤ytetÃ¤Ã¤n saapumisjÃ¤rjestyksessÃ¤. Ilmoittaudu kassalla museoon tullessasi. <br /><br />  Visit event in our website: <a href='https://tapahtumainfo.fi/tapahtuma/2026/08/johdanto-n-yttelyyn-y--ruotsiksi/427379'>Tapahtumainfo.fi</a></body></html>
END:VEVENT
END:VCALENDAR
