BEGIN:VCALENDAR
VERSION:2.0
PRODID:-//tapahtumainfo.fi//NONSGML Nuoren opettajattaren varaventtiili//EN
METHOD:REQUEST
BEGIN:VEVENT
UID:20260422T222649-1581974596-tapahtumainfo.fi
DTSTAMP:20260422T222649
DTSTART:20260809T130000Z
DTEND:20260809T020000Z
LOCATION:Tirvan lava, kesäteatteri
SUMMARY:Nuoren opettajattaren varaventtiili
DESCRIPTION:<html><head></head><body>Tirvan kesäteatteri esittää kesällä 2026 NUOREN OPETTAJATTAREN VARAVENTTIILI.<br /><br />Opettajatar Liisa Harju saa ensimmäisen työpaikkansa Pohjanmaalta, missä hänen omapäisyytensä ja rohkeutensa ravistelevat yhteisön totuttuja tapoja.<br />Romanttinen, elävän musiikin tahdittama komedia perustuu Hilja Valtosen vuonna 2026 100 vuotta täyttävään viihderomaaniin.<br /><br />Ensi-ilta 15.7.2026 kello 19.00.<br /><br />Lippu: 24 €<br />Alennuslippu (eläkeläiset, varusmiehet, opiskelijat, työttömät) 22 €<br />Lapset (5-15 v.) 12 €<br />Lapset alle 5 v. 0 € (istuvat aikuisen sylissä)<br />Ryhmälippu, min 10 henk. 22 €<br />Ryhmälippu, min 10 henk. + kahvi/tee ja suolainen leivonnainen 27 €<br />Ryhmälippu, min 10 henk. + kahvi/tee ja makea leivonnainen 27 €<br /><br />Erillinen yhdeksän neliön invakatsomo (6 paikkaa).<br />Avustaja pääsee maksutta mukaan.<br /><br /><br />Esityksen kesto noin 2 h 30 min sisältäen väliajan. <br /><br />Ohjaus ja koreografia: Annukka Waara<br />Käsikirjoitus: Hilja Valtonen<br />Dramaturgia: Pentti Pesä<br />Musiikista vastaavat: Ilja Kaskimaa ja Tanja Varha <br /><br />  Visit event in our website: <a href='https://tapahtumainfo.fi/tapahtuma/2026/07/nuoren-opettajattaren-varaventtiili/427383'>Tapahtumainfo.fi</a></body></html>
END:VEVENT
END:VCALENDAR
