BEGIN:VCALENDAR
VERSION:2.0
PRODID:-//tapahtumainfo.fi//NONSGML brokeNCYDE (USA)//EN
METHOD:REQUEST
BEGIN:VEVENT
UID:20260424T231144-2142823598-tapahtumainfo.fi
DTSTAMP:20260424T231144
DTSTART:20260427T020000Z
DTEND:20260427T020000Z
LOCATION:On The Rocks
SUMMARY:brokeNCYDE (USA)
DESCRIPTION:<html><head></head><body><p dir="ltr"><strong>brokeNCYDE sanailee terävästi On the Rocksissa huhtikuussa!</strong></p><br /><p dir="ltr"><strong>brokeNCYDE</strong> on laulaja Mikl Shean ja instrumenteista vastaavan PhatJ:n muodostama duo Yhdysvaltain Albuquerquesta. Vuonna 2006 uransa aloittanut kaksikko on musiikillisesti laajan crunkcore -tyylisuunnan luoja. Hip hop -biittejä, heavy metalin elementtejä ja provokatiivista asennetta yhdistelevä räävitön ryhmä biittaa tiukasti, eikä epäröi käyttää voluumiltaan tai sanomaltaan villiä kieltä. Muun muassa Vans Warped Tourilla yleisöä hyppyyttänyt bändi on jakanut lavoja Yhdysvalloissa muun muassa Hollywood Undeadin ja Senses Failin kanssa.</p><br /><p dir="ltr">Youtubessa yli 50 miljoonaa katselukertaa videoilleen kerännyt brokeNCYDE jatkaa ylpeästi matkaansa marginaalissa. Huhtikuussa Helsingissä ei olla miellyttämässä ketään, mutta meno On The Rocksissa saattaa yltyä hyvinkin miellyttäväksi!</p><br /><p><br></p><br /><br /><p>Varmista soittoajat keikkapäivänä On The Rocksin sivuilta: <a href="http://www.rocks.fi/tapahtumat" target="_blank">www.rocks.fi/tapahtumat</a><strong><br></strong></p><br /><p><strong>Liput ovelta 33 €, mikäli jäljellä.</strong></p><br /><p><strong>Ovella peritään eteispalvelumaksu 3,80 €.</strong><strong><br></strong></p><br /><p><strong>---</strong></p><br /><p><strong>Saavustettavuus ja esteettömyys</strong><br>On The Rocksin tapahtumiin pääsee myös liikkumisen apuvälineillä. Tila ei ole täysin esteetön - tiloissa sijaitsee rappusia sekä kynnyksiä. Henkilökunta avustaa alakerran klubille pääsyssä hissin kautta. Avustaja pääsee tapahtumaan veloituksetta avustettavan kanssa samalla lipulla. <br> <br>Katso tarkemmat tiedot:<strong> <a href="https://www.rocks.fi/info/" target="_blank">https://www.rocks.fi/info</a><br><br>Turvallisemman tilan periaatteet<br> </strong>On the Rocks on sitoutunut järjestämään turvallisia tapahtumia. Lue lisää turvallisemman tilan periaatteista <a href="https://www.rocks.fi/info/#turvallisuus-head" target="_blank">täältä.</a></p> <br /><br />  Visit event in our website: <a href='https://tapahtumainfo.fi/tapahtuma/2026/04/brokencyde-usa/428314'>Tapahtumainfo.fi</a></body></html>
END:VEVENT
END:VCALENDAR
