BEGIN:VCALENDAR
VERSION:2.0
PRODID:-//tapahtumainfo.fi//NONSGML Downtown Calling 10.-11.07.2026//EN
METHOD:REQUEST
BEGIN:VEVENT
UID:20260423T064804-200322733-tapahtumainfo.fi
DTSTAMP:20260423T064804
DTSTART:20260710T020000Z
DTEND:20260710T020000Z
LOCATION:Nordis
SUMMARY:Downtown Calling 10.-11.07.2026
DESCRIPTION:<html><head></head><body><h3>Downtown Calling palaa!  </h3><br /><p>Helsingin Jäähallin alueella Nordiksella järjestetään heinäkuussa <em>Downtown Calling</em> -niminen vaihtoehtomusiikin jättitapahtuma. Nordiksella esiintyy 10.–11. heinäkuuta Suomen vaihtoehto- ja indie-musiikin kärki sekä suuri joukko underground- ja hiphop -nimiä. Lisäksi tapahtumassa nähdään muutamia ulkomaisia esiintyjiä, kaiken kaikkiaan lähes 30 artistia.</p><br /><p>Yksi mielenkiintoisimmista tapahtumista on Pyhimyksen paluu areenoille <em>Downtown Callingissa </em>Hän esiintyi soolona viimeksi neljä vuotta sitten loppuunmyydyssä Helsingin jäähallissa. Pyhimys esittää <em>Downtown Callingissa </em>kesän ainoalla festivaalikeikallaan kaikki hittibiisinsä, ja keväällä häneltä on luvassa uuttakin musiikkia.</p><br /><p><em>Downtown Calling</em> on järjestetty viimeksi vuosina 2022–2023 Tekniikan museolla ja sen ympäristössä. Alue on kuitenkinkin remonttien alla, joten uudeksi tapahtumapaikaksi valikoitui Nordiksen alue.</p><br /><p><em>Downtown Calling</em> -festivaalin artisteina nähdään Pyhimyksen lisäksi Britannian listaykkösenä ollut <strong>The Libertines</strong> sekä yhdysvaltalainen räp-legenda <strong>Mobb Deep feat. Havoc, Big Noyd + DJ L.E.S.</strong>ja ruotsalaisräppäri <strong>Silvana Imam</strong>. Muita kotimaisia artisteja edustavat muiden muassa, <strong>Karri Koira</strong>, <strong>Maustetytöt</strong>, <strong>Emma & Matilda</strong>, <strong>Vesta</strong>, <strong>Ege Zulu</strong>, <strong>OLGA</strong>, <strong>Jonna Tervomaa</strong>, <strong>MELO</strong>, <strong>Lähiöbotox</strong>, <strong>MALLA</strong>, <strong>DJ Ibusal</strong>, <strong>good boys</strong>, <strong>Senya</strong>, <strong>Eevil Stöö</strong>, <strong>Younghearted</strong>, <strong>Stepa,</strong> <strong>Kemmuru</strong>, <strong>Asa</strong>, <strong>Tiisu</strong>, <strong>Konala Cartelli 25 vuotta</strong> ja <strong>Viitasen Piia</strong>.</p><br /><p><strong>Perjantai 10.7. <br></strong>Silvana Imam, Mobb Deep ft. Havoc + Big Noyd + Dj L.E.S., Karri Koira, Ege Zulu, OLGA, Jonna Tervomaa, Melo, Malla, Dj Ibusal, Senya, Viitasen Piia, Konala Cartelli 25-vuotta, Tiisu </p><br /><p><strong>Lauantai 11.7. <br></strong>Pyhimys, The Libertiners, Maustetytöt, Vesta, Emma ja Matilda, Lähiöbotox, good boys, Eevil Stools, Stepa, Kemmuru, Younghearted, Asa <br></p><br /><br /><p>Liput vaihdetaan rannekkeisiin.</p><br /><p>***</p><br /><p><strong>VIP-lippu sisältää:&nbsp;</strong></p><br /><p><strong></strong><strong></strong>- Henkilökohtainen VIP-passi ja ranneke<br>- Oma erillinen VIP-alue, jossa katettu alue ja oma anniskelupiste<br>- Oma VIP-kaista sisääntulossa</p><br /><p>***</p><br /><p><strong>Esteettömyys:</strong></p><br /><p>Avustaja pääsee tapahtumaan ilmaiseksi avustettavan kanssa samalla lipulla. Avustajalle ei myönnetä ranneketta, vaan hänen tulee kulkea joka päivä avustettavan henkilön kanssa samaan aikaan festivaalialueelle ja alueella. Otathan mukaan myös todenteen avustajan tarpeesta.<br>Lavojen läheisyydessä sijaitsee katsomokorokkeet. Alueelta löytyy esteettömät bajamajat. Tapahtumaan on esteetön pääsy pyörätuolilla. Induktiosilmukkaa ei ole käytössä.</p><br /><p>Jos sinulla herää mitä tahansa kysymyksiä saavutettavuuteen liittyen tai haluaisit kertoa meille kehitysehdotuksia, ota meihin yhteyttä sähköpostilla <a href="mailto:info@loudnlive.fi" target="_blank" rel="noopener noreferrer nofollow">info@loudnlive.fi</a></p> <br /><br />  Visit event in our website: <a href='https://tapahtumainfo.fi/tapahtuma/2026/07/downtown-calling-10-11-07-2026/428347'>Tapahtumainfo.fi</a></body></html>
END:VEVENT
END:VCALENDAR
