BEGIN:VCALENDAR
VERSION:2.0
PRODID:-//tapahtumainfo.fi//NONSGML Lady Shave, Annika Cleo & Ari Stockås tulkitsevat Ella Fitzgeraldia//EN
METHOD:REQUEST
BEGIN:VEVENT
UID:20260422T034838-144997382-tapahtumainfo.fi
DTSTAMP:20260422T034838
DTSTART:20260425T180000Z
DTEND:20260425T020000Z
LOCATION:Theodorsalen, Societetshuset
SUMMARY:Lady Shave, Annika Cleo & Ari Stockås tulkitsevat Ella Fitzgeraldia
DESCRIPTION:<html><head></head><body>Naiskuoro Lady Shave yhdistää äänensä duon Annika Cleon & Ari Stockåsin kanssa kapellimestari Emilie Adolfssonin johdolla. Yhdessä he ammentavat inspiraatiota kriitikoiden ylistämästä Walking with Ella -projektista ja tulkitsevat Ella Fitzgeraldin musiikkia kuorosoinnin, improvisaation ja henkilökohtaisen kerronnan voimin.<br /><br />Tervetuloa keväiseen konserttiin, joka kunnioittaa jazzin ikonia ja avaa ovia uusille tulkinnoille!<br />Konserttipäivä lauantai 25.4. klo 18.00 on myös laulajalegenda Ella Fitzgeraldin syntymäpäivä!<br /><br />Ovet avataan klo 17.30<br /><br />Liput<br />20 €/kpl<br />Opiskelijat, työttömät, varusmiehet ja lapset alle 12 v. 15 €/kpl<br />Sylilapset ilmaiseksi<br /><br />Konsertin kesto n. 1h 30 min, sis. väliaika <br /><br />  Visit event in our website: <a href='https://tapahtumainfo.fi/tapahtuma/2026/04/lady-shave-annika-cleo-ari-stockas-tulkitsevat-ella-fitzgeraldia/429153'>Tapahtumainfo.fi</a></body></html>
END:VEVENT
END:VCALENDAR
