BEGIN:VCALENDAR
VERSION:2.0
PRODID:-//tapahtumainfo.fi//NONSGML Allti påväg - skivreleasekonsert med Josefin Sirén - Vörå//EN
METHOD:REQUEST
BEGIN:VEVENT
UID:20260422T035242-1361006122-tapahtumainfo.fi
DTSTAMP:20260422T035242
DTSTART:20260425T190000Z
DTEND:20260425T020000Z
LOCATION:Vörå uf lokal
SUMMARY:Allti påväg - skivreleasekonsert med Josefin Sirén - Vörå
DESCRIPTION:<html><head></head><body>Den 24.4.2026 släpper Vöråbördiga Josefin Sirén sitt efterlängtade andra album Allti Påväg och firar det med en skivreleasekonsert på hemmaplan på Vörå UF:s scen 25.4. Josefin Sirén, som gör musik på Vörådialekt, släppte sin första skiva 2022 och har sedan dess med bl.a låtarna Klöver Åtton och Jåolin Brindär blivit en självklar del av den Österbottniska dialektmusikvågen. Nu är hon tillbaka med ett till fullängdsalbum och ger en konserthelhet där hon tillsammans med sitt band spelar alla låtar från albumet, varvat med några höjdpunkter från hennes tidigare repertoar.<br /><br />Biljett 24 €<br />Barn 7-15 år 12 €<br />Barn under 7 år 5€<br />Famn barn gratis<br /><br />Servering ingår i priset<br />Längd ca 60 min.<br /><br />Numrerade sittplatser. <br />Stigande läktare från rad 7.<br /><br />Att uppleva Josefin Sirén live är att släppas nära — musik som talar till hjärtat, på dialekt, med värme, nostalgi och uppriktighet. Kom och låt dig beröras av toner som minner om hembygd, identitetssökande och gemenskap inlindat i en popkontext med en hint av melankoli och country. <br /><br />  Visit event in our website: <a href='https://tapahtumainfo.fi/tapahtuma/2026/04/allti-pavag-skivreleasekonsert-med-josefin-sir-n-vora/429154'>Tapahtumainfo.fi</a></body></html>
END:VEVENT
END:VCALENDAR
