BEGIN:VCALENDAR
VERSION:2.0
PRODID:-//tapahtumainfo.fi//NONSGML DIABLO: MIMIC47 – SÄRMÄÄMÄTTÖMÄNÄ!//EN
METHOD:REQUEST
BEGIN:VEVENT
UID:20260422T035317-925968976-tapahtumainfo.fi
DTSTAMP:20260422T035317
DTSTART:20260425T200000Z
DTEND:20260425T235900Z
LOCATION:Tempo
SUMMARY:DIABLO: MIMIC47 – SÄRMÄÄMÄTTÖMÄNÄ!
DESCRIPTION:<html><head></head><body><p>uomalaisen äärimetallin kaukopartiomiehet palaavat valokeilaan juhlistamaan 20-vuotiasta Mimic47 -albumiaan. Luvassa on hiihtoväenkin rakastaman levyn ympärille rakennettu konseptikiertue sekä maistiainen tulevan kesän karavaanarielämästä singlejulkaisun merkeissä.<br>HAVUJA PERKELE!</p><p>Diablo starttaa neljäntoista keikan mittaisen M47 – särmäämätön! -juhlakiertueensa helmikuun 7. päivä Seinäjoen Rytmikorjaamolta ja runnoo perinteisen tyylillä koko kevään ladun loppuessa vappuaattona Jyväskylän Tanssisali Lutakon pihamaalle. Kiertueella tullaan kuulemaan livenä kaikki Mimic47:n biisit, joista osaa ei ole koskaan esitetty keikoilla sekä muita valikoituja yleisönsuosikkeja.”Palaamme ennen seuraavan pitkäsoittomme julkaisua antamaan teille D-näytteen ajoilta, jolloin totuus oli vielä tarua ihmeellisempää”, yhtye kommentoi.</p><p>Mimic47 lunasti aikoinaan bändille ensimmäisen kärkipaikan albumilistalla sekä poiki julkaisuja että tunnustusta myös kotimaamme rajojen ulkopuolella. Tuolloin liikuttiin karmit kaulassa muuallakin kuin Viron Narvassa.</p><p>”Levynkansistakaan ei karvaa ja tuhatjalkaisia puuttunut. Herkimmät eivät kuulemma ole kestäneet selailla sisältöä lainkaan.”</p><p>ALA-TIKKURILAN SHELLIN RASVAMONTTU<br>Kursailemattomasta tyylistään tunnettu yhtye ammentaa yhä lihaa säästämättä suomalaisesta, pieleen diagnosoidusta mielenmaisemasta. Levyllä innoittavina teemoina olivat mm. Juha Miedon karvas sadasosasekunnin tappio Lake Placidissa 1980 ja Dallasin Sue Ellenin syöksykierre. Tappio on taitolaji. Pidetyn live-bändin maineessa oleva kvartetti on julkaissut seitsemän albumia, joista viimeisimmän When All the Rivers Are Silent vuonna 2022. Uutta latinkia on jo piipussa, joten metallinnälkäisiä hemmotellaan<br>korvien kahta puolta jo ihan lähitulevaisuudessa. Turkkikaan ei pysty enää jarruttamaan tätä prosessia.</p><p><br></p> <br /><br />  Visit event in our website: <a href='https://tapahtumainfo.fi/tapahtuma/2026/04/diablo-mimic47--sarmaamattomana/429156'>Tapahtumainfo.fi</a></body></html>
END:VEVENT
END:VCALENDAR
