BEGIN:VCALENDAR
VERSION:2.0
PRODID:-//tapahtumainfo.fi//NONSGML Humiseva harju//EN
METHOD:REQUEST
BEGIN:VEVENT
UID:20260421T052426-1247038206-tapahtumainfo.fi
DTSTAMP:20260421T052426
DTSTART:20260423T173000Z
DTEND:20260423T194600Z
LOCATION:Tapio, Joensuu, Tapio 4
SUMMARY:Humiseva harju
DESCRIPTION:<html><head></head><body>Rohkeassa ja omaperäisessä tulkinnassa yhdestä aikamme suurimmista rakkaustarinoista, Emerald Fennellin ”Humisevassa harjussa”, nähdään Margot Robbie Cathyna ja Jacob Elordi Heathcliffinä, joiden kielletty intohimo toisiaan kohtaan muuttuu romanttisesta huumaavaksi eeppiseksi tarinaksi himosta, rakkaudesta ja hulluudesta. <br /><br />  Visit event in our website: <a href='https://tapahtumainfo.fi/tapahtuma/2026/04/humiseva-harju/429476'>Tapahtumainfo.fi</a></body></html>
END:VEVENT
END:VCALENDAR
