BEGIN:VCALENDAR
VERSION:2.0
PRODID:-//tapahtumainfo.fi//NONSGML Piikkiö Päivä 40v. 23.5.2026//EN
METHOD:REQUEST
BEGIN:VEVENT
UID:20260426T035212-961496847-tapahtumainfo.fi
DTSTAMP:20260426T035212
DTSTART:20260523T100000Z
DTEND:20260523T150000Z
LOCATION:Piikkiön keskusta, Hadvalantie 8, 21500 PIIKKIÖ
SUMMARY:Piikkiö Päivä 40v. 23.5.2026
DESCRIPTION:<html><head></head><body><p>Perinteikäs markkinatapahtuma&nbsp;<strong>Piikkiö Päivä</strong> juhlii tänä vuonna upeaa 40 vuoden taivaltaan – ja luvassa on kaikkien aikojen juhlat!</p><p>Tämä koko perheen markkinatapahtuma kokoaa jälleen Kaarinan Piikkiön sydämeen runsaan kattauksen eri alojen näytteilleasettajia, herkkuja, elämyksiä ja viihdettä aamusta iltaan. Tule tekemään löytöjä, tapaamaan tuttuja ja nauttimaan tunnelmasta, jossa yhdistyvät perinteet ja iloinen markkinahumu.</p><p>Perheen pienimmille riittää riemua tivolissa sekä monipuolisen ohjelman parissa – tekemistä ja kokemista löytyy kaikenikäisille!</p><p>Päivätapahtuman pääesiintyjinä nähdään energinen Jukka Poika sekä Hanna Kanasuo. Päivätapahtuman tunnelmasta vastaa juontaja Sari Tamminen.</p><p>Näytteilleasettajille:<br>Haluatko mukaan juhlatunnelmaan ja tavoittamaan tuhansia kävijöitä? Varaa oma myyntipaikkasi helposti oheisesta linkistä:<br>https://forms.gle/TnJSsGHkz9rDcwQw8</p><p><br></p><p>Päivän huipentaa iltajuhla ja tanssit legendaarisessa Piikkiön Pontelassa klo 18.00 alkaen, jossa lavalle nousevat:</p><ul><li><p>Vuoden 2023 tangoprinsessa Katja Karisukki</p></li><li><p>Hanna Kanasuo bändeineen</p></li></ul><div>Iltatapahtuman lipun hintaan sisältyy illan alussa järjestettävä tanssitunti. Liput myynnissä&nbsp;https://bolero.myclub.fi/flow/shop/products?fbclid=IwVERDUARO-kpleHRuA2FlbQIxMABzcnRjBmFwcF9pZAwzNTA2ODU1MzE3MjgAAR7V_j41Zn4pA_01rQsV5YioA187YIyr-mJDSINGeWNsSbsjqINekaQin9nd3g_aem_PfHYV40NvJZKzQoAbmFUIg</div><div><br></div><p>Tule mukaan juhlimaan, kokemaan ja viihtymään – tehdään yhdessä 40-vuotiaasta Piikkiö Päivästä ikimuistoinen!</p> <br /><br />  Visit event in our website: <a href='https://tapahtumainfo.fi/tapahtuma/2026/05/piikkio-paiva-40v-23-5-2026/429499'>Tapahtumainfo.fi</a></body></html>
END:VEVENT
END:VCALENDAR
