BEGIN:VCALENDAR
VERSION:2.0
PRODID:-//tapahtumainfo.fi//NONSGML NOORMARKUN PÄÄSIÄISMARKKINAT//EN
METHOD:REQUEST
BEGIN:VEVENT
UID:20260422T114741-803224748-tapahtumainfo.fi
DTSTAMP:20260422T114741
DTSTART:20260406T020000Z
DTEND:20260406T020000Z
LOCATION:Taatan tupa, Laviantie30, 29600 Noormarkku,Pori
SUMMARY:NOORMARKUN PÄÄSIÄISMARKKINAT
DESCRIPTION:<html><head></head><body><div><b>suosittu pääsiäistapahtuma tulee taas!Mukana50myyjää.Paljon uutuuksia ja myös kirppistuotepuoli.Kysy myyntipaikkaa mieluiten tekstarina p.0458818112 tai taatantupa@gmail.com</b></div><div><b>Myyntipaikan hinta alkaen 10€.Myyntipaikan perumiset viimeistään viikkoa ennen tapahtumaa.</b></div><div><b>Mukanaolevia yrityksiä yksityisten myyjien lisäksi mm.Tupperwaren poistomyynti,Forever living,Välke kosmetiikka,Elsan ekopaja,Noranne,Niinan ihmemaa,Jeminan kukka,T:mi M.Marjamäki,Niira ky:SataVakka hunaja,Korpelan liha-auto, Kotigastronomin mausteet,FinnLite,T:mi Tunnelmari,Print Nordica oy,AriTuu,Jonas Rantanen vaatemyynti,TuuSan oy,Senita Lahdenperä nukenvaatteet,Anu Martti Lastenvaatteet,Jori Asikainen puutyöt,Hr-fix brodeeratut pellavapyyhkeet,Mervi Rahola lusikkakorut ja kaiverrus</b></div><div><b>Ohjelmassa:Kiikoisten kesäteatteri esittää klo13 pätkän näytelmästään Kesä Kutemankylässä</b></div><div><b>Ulkona pääsiäistehtäväpolku lapsille</b></div><div><b>Kahviossa pääsiäismunien maalausta sekä pääsiäismunan suunnittelukilpailu--&gt;&gt;voittajalle 10€ rahapalkinto</b></div><div><b>leikkimielistä markkinabingoa koko perheelle jossa vihjeen perusteella etsitään oikea tuote tai myyjä</b></div><div><b><br></b></div> <br /><br />  Visit event in our website: <a href='https://tapahtumainfo.fi/tapahtuma/2026/04/noormarkun-paasiaismarkkinat/429500'>Tapahtumainfo.fi</a></body></html>
END:VEVENT
END:VCALENDAR
