BEGIN:VCALENDAR
VERSION:2.0
PRODID:-//tapahtumainfo.fi//NONSGML Leevi & The Leavings Tribuutti, Unna & Helge Tallqvist Band//EN
METHOD:REQUEST
BEGIN:VEVENT
UID:20260422T205209-401480465-tapahtumainfo.fi
DTSTAMP:20260422T205209
DTSTART:20260430T020000Z
DTEND:20260430T020000Z
LOCATION:Storyville
SUMMARY:Leevi & The Leavings Tribuutti, Unna & Helge Tallqvist Band
DESCRIPTION:<html><head></head><body><h2>Leevi & The Leavings Tribuutti ja&nbsp;Unna & Helge Tallqvist Band&nbsp;Storyvillessa 30.4.!</h2><br /><br /><p><strong>21:00&nbsp;Leevi & The Leavings Tribuutti<br>23:30&nbsp;Unna & Helge Tallqvist Band</strong></p><br /><p><strong>Ennakkolippu edellyttää saapumista ennen klo 21:00<strong>.</strong> Lipulla pääsee sisään klo 21:00 jälkeenkin, mutta ei jonon ohi.</strong><br /><br /></p> <br /><br />  Visit event in our website: <a href='https://tapahtumainfo.fi/tapahtuma/2026/04/leevi-the-leavings-tribuutti-unna-helge-tallqvist-band/429559'>Tapahtumainfo.fi</a></body></html>
END:VEVENT
END:VCALENDAR
