BEGIN:VCALENDAR
VERSION:2.0
PRODID:-//tapahtumainfo.fi//NONSGML Hiljaiset Levyt 40 vuotta - The Boasters, Hiljaiset All Stars//EN
METHOD:REQUEST
BEGIN:VEVENT
UID:20260425T133746-1452573729-tapahtumainfo.fi
DTSTAMP:20260425T133746
DTSTART:20260508T020000Z
DTEND:20260508T020000Z
LOCATION:Kulttuuritalo Telakka
SUMMARY:Hiljaiset Levyt 40 vuotta - The Boasters, Hiljaiset All Stars
DESCRIPTION:<html><head></head><body><p><strong>Hiljaiset Levyt 40v - Meidän ilta</strong><br><br>Hiljaiset Levyt potkaisee käyntiin 40v-juhlavuotensa Tampereen Telakalla. Lavalla nähdään The Boaster sekä Hiljaiset All Stars, housebändi vahvistettuna yhdeksellä Hiljaiset Levyt -solistilla.<br><br>Tamperelais-helsinkiläinen Oi!/katupunkbändi The Boasters julkaisi 2025 vuoden loppupuolella albuminsa ”Dancefloor K.O.”<br><br>Hiljaiset All Stars -kokoonpanossa esiintyvät solistit yhtyeistä; Garbagemen, God's Lonely Men, Jalla Jalla, , Lowdown Shakin' Chills, Punk Lurex, Room 100, Saattohoito79, Viewmasters ja Wolfmen.</p><br /><br /><p><strong>Esteettömyys: </strong><br>Avustaja pääsee tapahtumaan ilmaiseksi avustettavan kanssa samalla lipulla: <strong>kyllä</strong><br>Tapahtumaan on esteetön pääsy pyörätuolilla: <strong>ei</strong><br>Tapahtumassa on pyörätuolikoroke:<strong> ei</strong><br>Pyörätuolia<br /> käyttävää tai erityistä avustusta tarvitsevaa asiakasta pyydetään <br />olemaan etukäteen yhteydessä sujuvan sisäänpääsyn varmistamiseksi:<strong> Esteettömyydestä voi olla etukäteen yhteydessä ravintolan yleiseen numeroon 03 2250700.</strong></p> <br /><br />  Visit event in our website: <a href='https://tapahtumainfo.fi/tapahtuma/2026/05/hiljaiset-levyt-40-vuotta-the-boasters-hiljaiset-all-stars/429562'>Tapahtumainfo.fi</a></body></html>
END:VEVENT
END:VCALENDAR
