BEGIN:VCALENDAR
VERSION:2.0
PRODID:-//tapahtumainfo.fi//NONSGML Allt (SWE), Avralize (GER), Bite Down (SWE)//EN
METHOD:REQUEST
BEGIN:VEVENT
UID:20260425T202507-834929350-tapahtumainfo.fi
DTSTAMP:20260425T202507
DTSTART:20261204T020000Z
DTEND:20261204T020000Z
LOCATION:On The Rocks
SUMMARY:Allt (SWE), Avralize (GER), Bite Down (SWE)
DESCRIPTION:<html><head></head><body><h2><strong>Ruotsalainen Metalcore-ryhmä Allt Helsinkiin Joulukuussa</strong><br></h2><br /><p dir="ltr">Vuonna 2020 Ruotsin Karlskogassa perustettu, tyylikästä progressiivista metalcorea runnova <strong>Allt </strong>saapuu Helsingin On The Rocksiin 4. joulukuuta. Tuskassakin tulevana kesänä esiintyvä Allt yhdistelee matalavireisiä riffejä, vaeltavia melodioita ja orkestraalisia sovituksia luoden tunnistettavan, tumman ja tunnepitoisen soundin. Yhtyeen jäsenet jakavat rakkauden luontoon ja elokuvataiteeseen, ja se on vahvasti läsnä myös Alltin musiikissa. Monet kappaleet ja sanoitukset ovatkin saaneet inspiraationsa kirjallisuudesta tai elokuvista. Menneiden muistojen, kokemusten tai kuvien pukeminen musiikiksi on yksi bändin tärkeimmistä inspiraation lähteistä.</p><br /><p dir="ltr">Erikoisvieraina keikalla nähdään saksalaiset metalcore-lähettiläät <strong>Avralize</strong> sekä ruotsalainen <strong>Bite Down</strong>.</p><br /><p dir="ltr"><a href="https://shop.alltband.com/" target="_blank"></a></p><br /><p><a href="https://shop.alltband.com/" target="_blank">Allt</a><a href="https://avralize.com/" target="_blank"><br>Avralize</a><br><a href="https://www.bitedownmusic.com/" target="_blank">Bite Down</a></p><br /><p><a href="https://tuska.fi/tuskalive/" target="_blank">Tuska</a><br><a href="https://www.greybeard.fi/" target="_blank">Grey Beard</a><a href="https://www.greybeard.fi/" target="_blank"></a><br></p><br /><br /><p>Varmista soittoajat keikkapäivänä On The Rocksin sivuilta: <a href="http://www.rocks.fi/tapahtumat" target="_blank">www.rocks.fi/tapahtumat</a><br></p><br /><p><strong>Ovella peritään eteispalvelumaksu 3,80 €.</strong><strong><br></strong></p><br /><p><strong>---</strong></p><br /><p><strong>Esteettömyys</strong><br>On The Rocksin tapahtumiin pääsee myös liikkumisen apuvälineillä. Tila ei ole täysin esteetön - tiloissa sijaitsee rappusia sekä kynnyksiä. Henkilökunta avustaa alakerran klubille pääsyssä hissin kautta. Avustaja pääsee tapahtumaan veloituksetta avustettavan kanssa samalla lipulla. <br> <br>Katso tarkemmat tiedot:<strong> <a href="https://www.rocks.fi/info/" target="_blank">https://www.rocks.fi/info</a><br><br>Turvallisemman tilan periaatteet<br> </strong>On the Rocks on sitoutunut järjestämään turvallisia tapahtumia. Lue lisää turvallisemman tilan periaatteista <a href="https://www.rocks.fi/info/#turvallisuus-head" target="_blank">täältä.</a></p> <br /><br />  Visit event in our website: <a href='https://tapahtumainfo.fi/tapahtuma/2026/12/allt-swe-avralize-ger-bite-down-swe/429595'>Tapahtumainfo.fi</a></body></html>
END:VEVENT
END:VCALENDAR
