BEGIN:VCALENDAR
VERSION:2.0
PRODID:-//tapahtumainfo.fi//NONSGML Henna Paasonen 3.3.â26.4.2026//EN
METHOD:REQUEST
BEGIN:VEVENT
UID:20260419T222100-1054556804-tapahtumainfo.fi
DTSTAMP:20260419T222100
DTSTART:20260303T020000Z
DTEND:20260426T020000Z
LOCATION:Suomen kÃ¤sityÃ¶n museo
SUMMARY:Henna Paasonen 3.3.â26.4.2026
DESCRIPTION:<html><head></head><body>KÃ¤sityÃ¶lÃ¤inen, muistelutyÃ¶n ohjaaja Henna Paasosen nÃ¤yttely Suomen kÃ¤sityÃ¶n museon NÃ¤ytÃ¶npaikassa rakentuu kahdesta erillisestÃ¤ mutta toisiaan syvÃ¤sti peilaavasta teemallisesta kokonaisuudesta: Maria Magdaleenan pÃ¤Ã¤siÃ¤inen ja IsoÃ¤iti. Kumpikin kokonaisuus on koottu omaan nÃ¤yteikkunaansa, joissa ne muodostavat intiimit, omalakiset maailmansa. YhdessÃ¤ ne avaavat nÃ¤kymÃ¤n Paasosen taiteeseen, jossa henkilÃ¶kohtainen muisti, naiseus, kÃ¤sityÃ¶perinne ja hengellisyys kietoutuvat yhteen. <br><br>NÃ¤yttely on esillÃ¤ 3.3.â26.4.2026. NÃ¤ytÃ¶npaikan nÃ¤yttelyihin voi tutustua kellon ympÃ¤ri Kilpisenkatu 12 nÃ¤yteikkunoissa. <br /><br />  Visit event in our website: <a href='https://tapahtumainfo.fi/tapahtuma/2026/03/henna-paasonen-3-3--26-4-2026/429608'>Tapahtumainfo.fi</a></body></html>
END:VEVENT
END:VCALENDAR
