BEGIN:VCALENDAR
VERSION:2.0
PRODID:-//tapahtumainfo.fi//NONSGML IHMETYKSIÃ//EN
METHOD:REQUEST
BEGIN:VEVENT
UID:20260425T225754-1570261935-tapahtumainfo.fi
DTSTAMP:20260425T225754
DTSTART:20260307T020000Z
DTEND:20260823T020000Z
LOCATION:Nelimarkka-museo, EtelÃ¤-Pohjanmaan aluetaidemuseo
SUMMARY:IHMETYKSIÃ
DESCRIPTION:<html><head></head><body>Ihmetys, hÃ¤mmÃ¤stys, joskus hÃ¤mmennys, suru tai ilo. Taiteen Ã¤Ã¤rellÃ¤ voit tunnustella tunteita, antaa ideoiden syntyÃ¤ ja ajatusten rakentua. Voit ihmetellÃ¤.<br><br>Nelimarkka-Rahasto sr.n nykytaiteen kokoelmasta poimitut teokset tarjoavat kattauksen kotimaista nykytaidetta ripauksella kansainvÃ¤lisyyttÃ¤.<br><br>NÃ¤yttelyssÃ¤ esillÃ¤ olevia uudempia tekijÃ¶itÃ¤ edustavat esimerkiksi Ines Sederholm ja Tuukka Tammisaari. Tammisaaren Ã¶ljyvÃ¤rimaalaukset asettuvat taidehistorian ja nykytaiteen vÃ¤liseen dialogiin. Sederholmin tyÃ¶skentely taas pohjaa alkuperÃ¤iskulttuureihin sekÃ¤ Tyynenmeren ja Kaakkois-Aasian visuaalisiin perinteisiin.<br><br>Uransa keskivaiheen taiteilijoita ovat muun muassa Nanna Susi ja Viggo WallenskÃ¶ld. WallenskÃ¶ld maalaa usein yksittÃ¤isiÃ¤, fyysisesti ja olemukseltaan poikkeavia ihmishahmoja, joiden on kuvattu yhdistÃ¤vÃ¤n eri ikÃ¤kausia, sukupuolia, historiallisia aikakausia ja yhteiskuntaluokkia. Susi puolestaan tunnetaan vÃ¤rikyllÃ¤isistÃ¤ ja ilmaisuvoimaisista maalauksistaan.<br><br>Kokeneempaa maalaripolvea taas edustavat esimerkiksi Jarmo MÃ¤kilÃ¤, joka on keskeinen suomalaisen postmodernismin edustaja, ja EtelÃ¤-Pohjanmaalta kotoisin oleva Antti Ojala. HÃ¤nen omaelÃ¤mÃ¤kerrallinen maalaustaiteensa punoo yhteen kansanomaisen perinteen, kulttuurihistorian ja arjen havainnot yleisinhimillisiksi kuvatarinoiksi.<br><br>EdellÃ¤ mainittujen taiteilijoiden lisÃ¤ksi mukana on teoksia Linda Arolalta, Janne Kaitalalta, Mi Kuopalta, Inari Krohnilta, Hannele KylÃ¤npÃ¤Ã¤ltÃ¤, Olli-Pekka Merimaalta, Kimmo PyykÃ¶ltÃ¤, Anna Retulaiselta, Filippo Tincolinilta, Arja Toivoselta, Katja Tukiaiselta, Juba Tuomolalta ja Hannu VÃ¤isÃ¤seltÃ¤.<br><br>NÃYTTELYN TEOSVALINNAT<br>Carmen Vendelin-Laukkanen ja nÃ¤yttelytyÃ¶ryhmÃ¤<br><br><br>Nelimarkka-Rahasto sr. on taiteilija ja professori Eero Nelimarkan vuonna 1945 perustama sÃ¤Ã¤tiÃ¶. Sen tehtÃ¤vÃ¤nÃ¤ on professori Nelimarkan tuotannon ja elÃ¤mÃ¤ntyÃ¶n vaaliminen sekÃ¤ hÃ¤nen taiteellisen tuotantonsa sÃ¤ilyttÃ¤minen.<br><br>SÃ¤Ã¤tiÃ¶ tukee Nelimarkka-museon toimintaa ja omistaa sen peruskokoelman. LisÃ¤ksi se tukee elÃ¤vien suomalaisten kuvataiteilijoiden tyÃ¶tÃ¤ kartuttamalla hankintakokoelmaansa, johon kuuluu yli 300 teosta. <br /><br />  Visit event in our website: <a href='https://tapahtumainfo.fi/tapahtuma/2026/03/ihmetyksi/429610'>Tapahtumainfo.fi</a></body></html>
END:VEVENT
END:VCALENDAR
