BEGIN:VCALENDAR
VERSION:2.0
PRODID:-//tapahtumainfo.fi//NONSGML En kväll i folkparken 2026//EN
METHOD:REQUEST
BEGIN:VEVENT
UID:20260423T014854-125437885-tapahtumainfo.fi
DTSTAMP:20260423T014854
DTSTART:20260710T190000Z
DTEND:20260710T020000Z
LOCATION:Molpe Paviljong
SUMMARY:En kväll i folkparken 2026
DESCRIPTION:<html><head></head><body>Med Erik-André Hvidsten, Susann Sonntag, Rosalía Sairem, Thomas Vikström, Heléne Nyberg och Thomas Enroths orkester.<br /><br />29.6 kl. 19.00 Tolkis Dansholmen, Borgå<br />30.6 kl 19.00 Verkstan, Dalsbruk<br />1.7 kl. 19.00 Molpe Paviljongen<br />2.7 kl. 19.00 Fagerö Folkpark<br />8.7 kl. 19.00 Lillön, Monäs<br />9.7 kl. 19.00 Lillby Klacken<br />10.7 kl. 19.00 Bryggan, Öja<br /><br />Biljett 30 €<br /><br />Med förbehåll för ändringar i programmet och artisterna.<br /> <br /><br />  Visit event in our website: <a href='https://tapahtumainfo.fi/tapahtuma/2026/06/en-kvall-i-folkparken-2026/429615'>Tapahtumainfo.fi</a></body></html>
END:VEVENT
END:VCALENDAR
