BEGIN:VCALENDAR
VERSION:2.0
PRODID:-//tapahtumainfo.fi//NONSGML Sommarkonsert//EN
METHOD:REQUEST
BEGIN:VEVENT
UID:20260423T071948-1602889537-tapahtumainfo.fi
DTSTAMP:20260423T071948
DTSTART:20260628T180000Z
DTEND:20260628T020000Z
LOCATION:Tammisaaren kirkko
SUMMARY:Sommarkonsert
DESCRIPTION:<html><head></head><body>Sommarkonsert med Sofia Källgren, Heléne Nyberg, Mattias Berghagen, Susann Sonntag och Thomas Enroth<br /><br />28.6. kl. 18.00 Ekenäs kyrka<br /><br />Biljett 33,50 €<br /><br />Med förbehåll för ändringar i programmet och artisterna. <br /><br />  Visit event in our website: <a href='https://tapahtumainfo.fi/tapahtuma/2026/06/sommarkonsert/429621'>Tapahtumainfo.fi</a></body></html>
END:VEVENT
END:VCALENDAR
