BEGIN:VCALENDAR
VERSION:2.0
PRODID:-//tapahtumainfo.fi//NONSGML Tavastian vappu: Lauantaidisko//EN
METHOD:REQUEST
BEGIN:VEVENT
UID:20260422T220416-279724684-tapahtumainfo.fi
DTSTAMP:20260422T220416
DTSTART:20260430T020000Z
DTEND:20260430T020000Z
LOCATION:Tavastia-klubi
SUMMARY:Tavastian vappu: Lauantaidisko
DESCRIPTION:<html><head></head><body><h3>Lauantaidisko palaa Tavastialle jälleen vappuaattona!</h3><br /><p><br /><br><br />Luvassa on parhaita Ladi-klassikoita, kovimpia uutuusbiisejä ja unohtuneita helmiä sekä tuttuun tyyliin kuplivaa vapputunnelmaa. Ovet aukeavat klo 23.30, ja bileet käynnistyvät salin avautuessa puolilta öin. Ilta jatkuu aina aamuneljään saakka. <br><br /><br><br />Lauantaidisko eli “Ladi” on yöelämän instituutio. Helsinkiläisestä DJ-kollektiivista on hioutunut monipuolisen popmusiikin ylivoimaisia taitajia, jotka kokoavat tuoreista hiteistä, parhaista klassikoista ja unohdetuista helmistä kovimmat setit tilanteeseen kuin tilanteeseen. <br><br /><br><br />HUOM. Perinteiseen tapaan pyydämme jättämään opiskelijahaalarit narikkaan.</p><br /><p><strong></strong><br><strong></strong><strong>Saavutettavuus</strong></p><br /><p>Tavastian katutason kerros on esteetön. Sisäänkäynnillä on pieni kynnys, johon on saatavilla ramppi. Tilassa on esteetön wc-tila. <a href="https://tavastiaklubi.fi/info/" target="_blank" rel="noopener">Lue lisää saavutettavuudesta Tavastian sivuilta!</a>&nbsp;Avustaja ei tarvitse erillistä lippua vaan pääsee avustettavan kanssa samalla normaalilipulla sisään. Esitäthän pyydettäessä EU:n vammaiskortin.</p><br /><p><strong>Eteispalvelu</strong></p><br /><p>Eteispalvelusta veloitamme 4 € per henkilö. Päällysvaatteet ja suuret laukut tulee jättää narikkaan turvallisuussyistä. Huomioithan, että pääsylipussa mainittu palvelumaksu tarkoittaa Tiketin lipunmyynnin palvelumaksua, eikä eteispalvelua paikan päällä.</p><br /><p><strong>Turvallisuusohje</strong><br><br>Tavastialla on nollatoleranssi kaikenlaiselle häirinnälle, kiusaamiselle, syrjinnälle, väkivallalle sekä vallan väärinkäytölle. Edellytämme jokaista meillä vierailevaa sitoutumaan turvallisemman tilan periaatteisiin. Huomioithan siis keikalla myös ihmiset ympärilläsi!</p><br /><p><strong>Ympäristölippu<br><br></strong>Ympäristölipulla osallistut Tavastian ja Luonnoperintösäätiön metsäkeräykseen: 3€ osuus ohjataan metsäkeräykseen lokakuussa 2024 hankkimamme suojelualueen laajentamiseksi. <a href="https://luonnonperintosaatio.fi/tavastian-metsa" target="_blank" rel="noopener">Tutustu tarkemmin Luonnonperintösäätiön sivuilla!</a>&nbsp;Kiitos kun olet mukana rakentamassa kestävämpää Tavastiaa!</p><br /><p>Syömään ennen diskoa?&nbsp;Tule&nbsp;<a href="http://www.ravintolailves.fi/" target="_blank">Ravintola Ilvekseen!</a></p><br /><p><br></p><br /><p><strong>Juomatarjoilut</strong></p><br /><p>Haluatko nostaa keikkakäyntisi seuraavalle tasolle? Tilaa juotavaa ennakkoon ja minimoi jonotusaika baarissa! </p><br /><p>Voit noutaa juomasi suoraan noutopisteeltä pääesiintyjän esityksen alkamiseen saakka, minkä jälkeen noutamattomat juomat siirretään noudettavaksi aulabaarista. Juomatarjoiluiden myynti päättyy 2 tuntia ennen tapahtuman ovien aukeamista.</p><br /><p>Huomioithan, että ostot ovat lopullisia, emmekä hyvitä juomaostoja, jos et jostain syystä pääsekään keikalle. Keikan siirtyessä tai peruuntuessa Tavastia on erikseen yhteydessä juomia ostaneisiin asiakkaisiin.</p><br /><p>Tilaa juomatarjoilut keikalle ennakkoon <a href="https://www.tiketti.fi/tavastian-juomatarjoilut-tavastia-helsinki-lippuja/114987" target="_blank">täältä</a>!</p><br /><p><strong>Talon kuohuviinipullo:</strong><br><br />Flors Blanques cava, Espanja<br><br /><em>Kuiva, raikas, hedelmäinen, kukkaisa, elegantit kuplat</em></p><br /><p><strong>Talon valkoviinipullo: </strong><br><br />La Falaise Blanche Sauvignon Blanc, Ranska<br><br /><em>Kuiva, aromaattinen, raikkaan hapokas, yrttisyyttä ja vihreää omenaa</em></p><br /><p><strong>Talon rieslingpullo: </strong><br><br />X-berg Riesling, Saksa<br><br /><em>Kuiva, mineraalinen, hapokas, sitruksinen</em></p><br /><p><strong>Talon punaviinipullo:</strong><br><br />La Falaise Blanche Syrah, Ranska<br><br /><em>Keskitäyteläinen, luumuinen, mausteinen, pehmeät ja maltilliset tanniinit</em></p><br /><p><strong>Talon parempi punaviinipullo: </strong><br><br />Pegasus Stellarossa, Italia<br><br /><em>Täyteläinen, marjahilloinen, tumman kirsikkainen, runsas</em></p><br /><p><strong>Olutkori: </strong><br><br />4 x Karhu III 0,33l</p><br /><p><strong>Lonkerokori:</strong><br><br />4 x Koff Long Drink Grapefruit 0,33l</p><br /><p><strong>Makulonkerokori:</strong><br><br />1 x Koff Long Drink Mango, 1 x Koff Long Drink Pink Grapefruit,<br><br />1 x Koff Long Drink Twist, 1 x Koff Long Drink Karpalo</p><br /><p><strong>Siiderikori: </strong><br><br />4 x Crowmoor Dry Apple 0,33l</p><br /><p><strong><em>Yllättävissä tuotepuutoksissa pidätämme oikeuden korvata tuote vastaavalla tuotteella valikoimastamme </em></strong></p><br /><br /><p><strong>Varmista soittoajat keikkapäivänä <a href="https://www.tavastiaklubi.fi" target="_blank"><span style="text-decoration-line: underline;">Tavastian sivuilta</span></a>.</strong><br></p> <br /><br />  Visit event in our website: <a href='https://tapahtumainfo.fi/tapahtuma/2026/04/tavastian-vappu-lauantaidisko/430470'>Tapahtumainfo.fi</a></body></html>
END:VEVENT
END:VCALENDAR
