BEGIN:VCALENDAR
VERSION:2.0
PRODID:-//tapahtumainfo.fi//NONSGML Gazillion Bubble Show (NY)//EN
METHOD:REQUEST
BEGIN:VEVENT
UID:20260425T202904-1776195371-tapahtumainfo.fi
DTSTAMP:20260425T202904
DTSTART:20261124T130000Z
DTEND:20261124T020000Z
LOCATION:
SUMMARY:Gazillion Bubble Show (NY)
DESCRIPTION:<html><head></head><body> <br /><br />  Visit event in our website: <a href='https://tapahtumainfo.fi/tapahtuma/2026/11/gazillion-bubble-show-ny/430492'>Tapahtumainfo.fi</a></body></html>
END:VEVENT
END:VCALENDAR
