BEGIN:VCALENDAR
VERSION:2.0
PRODID:-//tapahtumainfo.fi//NONSGML Kulttuuritalon naulakkomaksu 4,50€/hlö: Sasha Velour's "Travesty//EN
METHOD:REQUEST
BEGIN:VEVENT
UID:20260423T132000-244016298-tapahtumainfo.fi
DTSTAMP:20260423T132000
DTSTART:20260511T190000Z
DTEND:20260511T020000Z
LOCATION:Kulttuuritalon naulakkomaksut
SUMMARY:Kulttuuritalon naulakkomaksu 4,50€/hlö: Sasha Velour's "Travesty
DESCRIPTION:<html><head></head><body> <br /><br />  Visit event in our website: <a href='https://tapahtumainfo.fi/tapahtuma/2026/05/kulttuuritalon-naulakkomaksu-4-50-hlo-sasha-velour-s-travesty/431054'>Tapahtumainfo.fi</a></body></html>
END:VEVENT
END:VCALENDAR
