BEGIN:VCALENDAR
VERSION:2.0
PRODID:-//tapahtumainfo.fi//NONSGML Kulttuuritalon naulakkomaksu 4,50€/hlö: KULT: Rock Siltanen Group + Möyhy-Veikot//EN
METHOD:REQUEST
BEGIN:VEVENT
UID:20260422T132120-1839893545-tapahtumainfo.fi
DTSTAMP:20260422T132120
DTSTART:20260605T200000Z
DTEND:20260605T020000Z
LOCATION:KULT naulakkomaksu
SUMMARY:Kulttuuritalon naulakkomaksu 4,50€/hlö: KULT: Rock Siltanen Group + Möyhy-Veikot
DESCRIPTION:<html><head></head><body> <br /><br />  Visit event in our website: <a href='https://tapahtumainfo.fi'>Tapahtumainfo.fi</a></body></html>
END:VEVENT
END:VCALENDAR
