BEGIN:VCALENDAR
VERSION:2.0
PRODID:-//tapahtumainfo.fi//NONSGML Kulttuuritalon naulakkomaksu 4,50€/hlö: Viiden tähden -kiertue//EN
METHOD:REQUEST
BEGIN:VEVENT
UID:20260424T110317-59082410-tapahtumainfo.fi
DTSTAMP:20260424T110317
DTSTART:20261009T190000Z
DTEND:20261009T020000Z
LOCATION:Kulttuuritalon naulakkomaksut
SUMMARY:Kulttuuritalon naulakkomaksu 4,50€/hlö: Viiden tähden -kiertue
DESCRIPTION:<html><head></head><body> <br /><br />  Visit event in our website: <a href='https://tapahtumainfo.fi/tapahtuma/2026/10/kulttuuritalon-naulakkomaksu-4-50-hlo-viiden-tahden-kiertue/431061'>Tapahtumainfo.fi</a></body></html>
END:VEVENT
END:VCALENDAR
