BEGIN:VCALENDAR
VERSION:2.0
PRODID:-//tapahtumainfo.fi//NONSGML Tulisuudelma: Jysäri Dance Tour 2026 - Dj Ice K K-18//EN
METHOD:REQUEST
BEGIN:VEVENT
UID:20260422T191610-422987349-tapahtumainfo.fi
DTSTAMP:20260422T191610
DTSTART:20260501T220000Z
DTEND:20260501T020000Z
LOCATION:Ravintola Tulisuudelma
SUMMARY:Tulisuudelma: Jysäri Dance Tour 2026 - Dj Ice K K-18
DESCRIPTION:<html><head></head><body><b>Ravintola Tulisuudelma<br>Hertaksentie 2<br>01300 Vantaa<br>K-18</b><br><br><b><a href="https://www.tulisuudelma.fi">www.tulisuudelma.fi</a></b><br><br> <br /><br />  Visit event in our website: <a href='https://tapahtumainfo.fi/tapahtuma/2026/05/tulisuudelma-jysari-dance-tour-2026-dj-ice-k-k-18/431066'>Tapahtumainfo.fi</a></body></html>
END:VEVENT
END:VCALENDAR
