BEGIN:VCALENDAR
VERSION:2.0
PRODID:-//tapahtumainfo.fi//NONSGML Tulisuudelma: Dj Kite - Timemachine K-18//EN
METHOD:REQUEST
BEGIN:VEVENT
UID:20260420T095539-27146694-tapahtumainfo.fi
DTSTAMP:20260420T095539
DTSTART:20260502T220000Z
DTEND:20260502T020000Z
LOCATION:Ravintola Tulisuudelma
SUMMARY:Tulisuudelma: Dj Kite - Timemachine K-18
DESCRIPTION:<html><head></head><body><b>Ravintola Tulisuudelma<br>Hertaksentie 2<br>01300 Vantaa<br>K-18</b><br><br><b><a href="https://www.tulisuudelma.fi">www.tulisuudelma.fi</a></b><br><br> <br /><br />  Visit event in our website: <a href='https://tapahtumainfo.fi/tapahtuma/2026/05/tulisuudelma-dj-kite-timemachine-k-18/431067'>Tapahtumainfo.fi</a></body></html>
END:VEVENT
END:VCALENDAR
