BEGIN:VCALENDAR
VERSION:2.0
PRODID:-//tapahtumainfo.fi//NONSGML Tulisuudelma: Steve 'n' Seagulls K-18//EN
METHOD:REQUEST
BEGIN:VEVENT
UID:20260425T134116-996585412-tapahtumainfo.fi
DTSTAMP:20260425T134116
DTSTART:20260508T220000Z
DTEND:20260508T020000Z
LOCATION:Ravintola Tulisuudelma
SUMMARY:Tulisuudelma: Steve 'n' Seagulls K-18
DESCRIPTION:<html><head></head><body><b>Ravintola Tulisuudelma<br>Hertaksentie 2<br>01300 Vantaa<br>K-18</b><br><br><b><a href="https://www.tulisuudelma.fi">www.tulisuudelma.fi</a></b><br><br> <br /><br />  Visit event in our website: <a href='https://tapahtumainfo.fi/tapahtuma/2026/05/tulisuudelma-steve-n-seagulls-k-18/431068'>Tapahtumainfo.fi</a></body></html>
END:VEVENT
END:VCALENDAR
