BEGIN:VCALENDAR
VERSION:2.0
PRODID:-//tapahtumainfo.fi//NONSGML Tulisuudelma Jayho K18//EN
METHOD:REQUEST
BEGIN:VEVENT
UID:20260420T222041-1068587579-tapahtumainfo.fi
DTSTAMP:20260420T222041
DTSTART:20260814T220000Z
DTEND:20260814T020000Z
LOCATION:Ravintola Tulisuudelma
SUMMARY:Tulisuudelma Jayho K18
DESCRIPTION:<html><head></head><body><b>Ravintola Tulisuudelma<br>Hertaksentie 2<br>01300 Vantaa<br>K-18</b><br><br><b><a href="https://www.tulisuudelma.fi">www.tulisuudelma.fi</a></b><br><br> <br /><br />  Visit event in our website: <a href='https://tapahtumainfo.fi/tapahtuma/2026/08/tulisuudelma-jayho-k18/431095'>Tapahtumainfo.fi</a></body></html>
END:VEVENT
END:VCALENDAR
