BEGIN:VCALENDAR
VERSION:2.0
PRODID:-//tapahtumainfo.fi//NONSGML Suomirock Viikonloppu Vol 3. - Popeda//EN
METHOD:REQUEST
BEGIN:VEVENT
UID:20260422T132302-388782365-tapahtumainfo.fi
DTSTAMP:20260422T132302
DTSTART:20261204T220000Z
DTEND:20261204T020000Z
LOCATION:Ravintola Tulisuudelma
SUMMARY:Suomirock Viikonloppu Vol 3. - Popeda
DESCRIPTION:<html><head></head><body><b>Ravintola Tulisuudelma<br>Hertaksentie 2<br>01300 Vantaa<br>K-18</b><br><br><b><a href="https://www.tulisuudelma.fi">www.tulisuudelma.fi</a></b><br><br> <br /><br />  Visit event in our website: <a href='https://tapahtumainfo.fi/tapahtuma/2026/12/suomirock-viikonloppu-vol-3-popeda/431101'>Tapahtumainfo.fi</a></body></html>
END:VEVENT
END:VCALENDAR
