BEGIN:VCALENDAR
VERSION:2.0
PRODID:-//tapahtumainfo.fi//NONSGML Suomirock Viikonloppu Vol 3. - Kolmas Nainen//EN
METHOD:REQUEST
BEGIN:VEVENT
UID:20260420T204906-1341404916-tapahtumainfo.fi
DTSTAMP:20260420T204906
DTSTART:20261205T220000Z
DTEND:20261205T020000Z
LOCATION:Ravintola Tulisuudelma
SUMMARY:Suomirock Viikonloppu Vol 3. - Kolmas Nainen
DESCRIPTION:<html><head></head><body><b>Ravintola Tulisuudelma<br>Hertaksentie 2<br>01300 Vantaa<br>K-18</b><br><br><b><a href="https://www.tulisuudelma.fi">www.tulisuudelma.fi</a></b><br><br> <br /><br />  Visit event in our website: <a href='https://tapahtumainfo.fi/tapahtuma/2026/12/suomirock-viikonloppu-vol-3-kolmas-nainen/431102'>Tapahtumainfo.fi</a></body></html>
END:VEVENT
END:VCALENDAR
