BEGIN:VCALENDAR
VERSION:2.0
PRODID:-//tapahtumainfo.fi//NONSGML LoveProge//EN
METHOD:REQUEST
BEGIN:VEVENT
UID:20260423T125936-304767280-tapahtumainfo.fi
DTSTAMP:20260423T125936
DTSTART:20260910T190000Z
DTEND:20260910T020000Z
LOCATION:Tapiolasali, Espoon kulttuurikeskus
SUMMARY:LoveProge
DESCRIPTION:<html><head></head><body> <br /><br />  Visit event in our website: <a href='https://tapahtumainfo.fi/tapahtuma/2026/09/loveproge/431138'>Tapahtumainfo.fi</a></body></html>
END:VEVENT
END:VCALENDAR
