BEGIN:VCALENDAR
VERSION:2.0
PRODID:-//tapahtumainfo.fi//NONSGML Naulakkomaksu 3€/hlö: Viiden tähden -kiertue//EN
METHOD:REQUEST
BEGIN:VEVENT
UID:20260424T122400-1161333429-tapahtumainfo.fi
DTSTAMP:20260424T122400
DTSTART:20261018T160000Z
DTEND:20261018T020000Z
LOCATION:Madetojan salin naulakko
SUMMARY:Naulakkomaksu 3€/hlö: Viiden tähden -kiertue
DESCRIPTION:<html><head></head><body> <br /><br />  Visit event in our website: <a href='https://tapahtumainfo.fi/tapahtuma/2026/10/naulakkomaksu-3-hlo-viiden-tahden-kiertue/431143'>Tapahtumainfo.fi</a></body></html>
END:VEVENT
END:VCALENDAR
