BEGIN:VCALENDAR
VERSION:2.0
PRODID:-//tapahtumainfo.fi//NONSGML Naulakkomaksu 3,50€/hlö: MIRA LUOTI//EN
METHOD:REQUEST
BEGIN:VEVENT
UID:20260422T145011-2140513459-tapahtumainfo.fi
DTSTAMP:20260422T145011
DTSTART:20260530T210000Z
DTEND:20260530T020000Z
LOCATION:Teatro naulakkomaksu
SUMMARY:Naulakkomaksu 3,50€/hlö: MIRA LUOTI
DESCRIPTION:<html><head></head><body> <br /><br />  Visit event in our website: <a href='https://tapahtumainfo.fi/tapahtuma/2026/05/naulakkomaksu-3-50-hlo-mira-luoti/431207'>Tapahtumainfo.fi</a></body></html>
END:VEVENT
END:VCALENDAR
