BEGIN:VCALENDAR
VERSION:2.0
PRODID:-//tapahtumainfo.fi//NONSGML SUOMIPOP FESTIVAALI JYVÄSKYLÄ - TORSTAI VIP K-18//EN
METHOD:REQUEST
BEGIN:VEVENT
UID:20260423T035519-1101032331-tapahtumainfo.fi
DTSTAMP:20260423T035519
DTSTART:20260709T220000Z
DTEND:20260709T020000Z
LOCATION:Lutakonaukio
SUMMARY:SUOMIPOP FESTIVAALI JYVÄSKYLÄ - TORSTAI VIP K-18
DESCRIPTION:<html><head></head><body><p class="MsoNormal">  <b>Kaikki Suomipop Festivaalien esiintyjät julki - huippuvahvistuksia   Jyväskylään ja Ouluun</b></p><p class="MsoNormal">  </p><p class="MsoNormal">  <b>Suomipop Festivaalit 2026 </b>julkaisevat odotetusti koko tulevan   kesän ohjelmiston sekä Oulun Kuusisaaressa että Jyväskylän   Lutakonaukiolla juhlittaville sisarfestareille. Radio Suomipop   Festivaalit juhlitaan kesälomasesongin parhaaseen aikaan torstaista   lauantaihin 9.-11.7.2026. Tapahtumiin julkaistaan nyt merkittäviä   täydennyksiä kattaukseen, ja samalla myyntiin vapautetaan keväthintaiset   liput sekä paljastetaan päiväkohtaiset esiintyjälistat. Jyväskylän   tapahtuman odotetut ja joka vuosi ennakkoon loppuunmyydyt VIP-liput   tulevat vihdoin myyntiin VIP-alueen uudistuksen kera.<br></p><p class="MsoNormal">  </p><p class="MsoNormal">  Jyväskylän kovaa kattausta täydentävät Suomen suurin livebändi<b>   Haloo Helsinki!</b>, rakastettu vakiovieras <b>Apulanta</b>, paikallinen   ylpeys <b>Lauri Haav</b>, energisen show’n tarjoava <b>Elastinen</b>   sekä hittinikkari <b>Happoradio</b>. Tämän lisäksi Jyväskylässä   nähdään ja koetaan <b>Benjamin, Anssi Kela, Jonna   Tervomaa, Ressu Redford, ILTA, Elias Kaskinen</b> ja <b>Ellimei</b>   keikat.<br></p><p class="MsoNormal">  </p><p class="MsoNormal">  <b>Jyväskylän päiväkohtaisessa kattauksessa on jokaiselle suomipopin   ystävälle jotakin</b><br></p><p class="MsoNormal">  </p><p class="MsoNormal">  Jyväskylän Suomipop Festivaalin avauspäivä torstaina tarjoaa nostalgisen   ja energisen kokonaisuuden, kun <b>Nylon Beat</b> tekee paluun   festarilavoille. Illan ohjelman täydentävät muun muassa <b>JVG,   KUUMAA, Egotrippi, Benjamin, Suvi Teräsniska</b> ja<b> Ressu Redford</b>,   jotka rakentavat vahvan ja mieleenpainuvat aloituksen kolmipäiväiselle   festivaalikokemukselle.<br></p><p class="MsoNormal">  </p><p class="MsoNormal">  Perjantaina Lutakonaukiolle nousevat kotimaisen musiikin suurimmat   nimet, kun lavalle astelevat jäähyväiset Jyväskylän liveyleisölle   Suomipop Festivaalilla jättävä<b> Eppu Normaali</b>,   live-esiintymissä loistava <b>Haloo Helsinki!</b> Ja Keski-Suomen   kultapoika<b> Lauri Haav</b>. Heidän lisäkseen lavalla nähdään <b>Ellinoora,   Arttu Wiskari, Anssi Kela, Nelli Matula</b> ja <b>ILTA</b>.<br><br></p><p class="MsoNormal">  Lauantaina festivaaliviikonloppu huipentuu rockin ja popin voimakkaisiin   esiintymisiin. Lavalle nousevat joka vuosi esiintyjätoiveissa korkealla   pysyttelevä <b>Apulanta</b>, odetun paluun livekentille tekevä<b>   VESALA, Elastinen, Happoradio, Elias Kaskinen</b> ja <b>Jonna Tervomaa</b>.   Päivää piristävät myös ensimmäistä kertaa Suomipop Festivaalilla   esiintyvät <b>Komiat</b> ja nouseva tähti<b> Ellimei</b>,   jotka tuovat festivaalin päätöspäivään raikasta energiaa ja tunnelmaa.</p><p class="MsoNormal">  <br>  </p><p class="MsoNormal">  <b>Odotetut Jyväskylän VIP-liput myyntiin uudistuneen VIP-konseptin kera</b><br></p><p class="MsoNormal">  </p><p class="MsoNormal">  <i>”Jyväskylän VIP-lippuja on odotettu kuin kuuta nousevaa, ja on ilo   saada ne nyt myyntiin uudistetun VIP-konseptin siivittämänä. Uusien   esiintyjien myötä festivaalin ohjelma on kokonaisuudessaan valmis ja   tästä tulee todellinen Suomipop kesä. Festareilla juhlitaan isosti 25   vuotista Radio Suomipoppia.”</i>, kertoo Jyväskylän tuotannosta   vastaava Head of Production Anniina Havukainen.<br></p><p class="MsoNormal">  </p><p class="MsoNormal">  Jyväskylän Suomipop Festivaalin VIP-alue uudistuu kesälle 2026. Uusi,   kaksikerroksinen VIP-rakennus sijaitsee keskellä festivaalialuetta, ja   rakennuksen yläkerrasta avautuu näkyvyys molemmille esiintymislavoille.   Muilta osin VIP-alueelta avautuvat näkymät pääkentälle ja päälavalle.<br></p><p class="MsoNormal">  </p><p class="MsoNormal">  VIP-asiakkaille on tarjolla omat ravintola- ja anniskelupalvelut,   wc-palvelut, EL Eventsin ammattitaitoiset VIP-hostit sekä muuta vain   VIP-vieraille suunnattua ohjelmaa, joista tiedotetaan kevään aikana.<br></p><p class="MsoNormal">  </p><p class="MsoNormal">  VIP-ruokailu toteutetaan yhteistyössä Kuokkalan Kartanon kanssa   keittiömestari Mohsen Zakin johdolla. VIP-vieraat pääsevät nauttimaan   korkealaatuisista, sesongin raaka-aineista valmistetuista   cocktailpaloista, jotka tarjoillaan suoraan VIP-tilassa. Henkilökunta   tarjoaa niihin juomasuosituksia – juomat eivät sisälly lipun hintaan.<br></p><p class="MsoNormal">  </p><p class="MsoNormal">  Uudistuksen myötä esiintymislavojen edustalla ei ole enää erillisiä   VIP-aitauksia eikä VIP-alueella ole buffetruokailua. Uudistuksella   pyritään sekä vastaamaan entistä paremmin asiakaspalautteisiin mutta   myös lisäämään alueen viihtyvyyttä ja väljyyttä.<br><br><b>SUOMIPOP   FESTIVAALI JYVÄSKYLÄ</b><br>9.-11.7.2026<br>Jyväskylä,   Lutakonaukio<br>K-18<br><br><b>Esiintyjät:<br></b><br><b>Torstai   9.7.</b><br></p><p class="MsoNormal">  Nylon Beat, JVG, KUUMAA, Egotrippi, Benjamin, Suvi Teräsniska, Ressu   Redford<br><br></p><p class="MsoNormal">  <b>Perjantai 10.7.</b><br></p><p class="MsoNormal">  Eppu Normaali, Haloo Helsinki!, Lauri Haav, Ellinoora, Arttu Wiskari,   Anssi Kela, Nelli Matula, Ilta</p><p class="MsoNormal">  <b><br>  </b></p><p class="MsoNormal">  <b>Lauantai 11.7.</b><br>Apulanta, Vesala, Komiat, Elastinen, Elias   Kaskinen, Happoradio, Jonna Tervomaa, Ellimei<br><br>Muutokset ohjelmaan   mahdollisia. Tarkista aina ajantasaiset tiedot festivaalin omilta   nettisivuilta.</p><p class="MsoNormal">  <br>  Online:<br><a href="https://www.suomipopfestivaali.fi" target="_blank">www.suomipopfestivaali.fi</a><br><a href="https://www.facebook.com/suomipopfestivaali" target="_blank">www.facebook.com/suomipopfestivaali</a><br>@suomipopfestivaali<br>#suomipopfestivaali</p> <br /><br />  Visit event in our website: <a href='https://tapahtumainfo.fi/tapahtuma/2026/07/suomipop-festivaali-jyvaskyla-torstai-vip-k-18/431423'>Tapahtumainfo.fi</a></body></html>
END:VEVENT
END:VCALENDAR
