BEGIN:VCALENDAR
VERSION:2.0
PRODID:-//tapahtumainfo.fi//NONSGML Lumipallo-musikaali//EN
METHOD:REQUEST
BEGIN:VEVENT
UID:20260425T163932-2029150633-tapahtumainfo.fi
DTSTAMP:20260425T163932
DTSTART:20261218T190000Z
DTEND:20261218T020000Z
LOCATION:Ouluhalli
SUMMARY:Lumipallo-musikaali
DESCRIPTION:<html><head></head><body>Revontulten lumoavaan maahan sijoittuva Lumipallo-suurmusikaali saa maailman kantaesityksensä Oulussa joulukuussa 2026. Koko perheen joulumusikaali punoo yhteen pohjoisia legendoja. Se luo jännittävän kertomuksen täynnä taikuutta, mysteeriä ja romantiikkaakin.<br><br>Musikaalin päähenkilö Krista, Joulupukin kummityttö, on elänyt koko ikänsä joulun taikaa Joulupukin kylässä. Nyt Krista on alkanut kaivata seikkailua. Jouluna muinainen loitsu yllättäen murtuu ja Joulupukin mystinen menneisyys paljastuu. Kristan on vastattava haasteeseen ja pelastettava maailman lapsille joulu.<br><br>Lumipallo–musikaalin päärooleissa loistavat Kristo Salminen, <b>Saara Aalto, Mika Nuojua, Mia Hafrén, Petra Pääkkönen</b> ja <b>Veeti Laasila</b>. Musikaalin orkesterina toimii Oulu Sinfonia kapellimestarinaan <b>Kristian Nyman</b>.<br><br>Musikaalista vastaa kokenut tekijäryhmä. Käsikirjoitus ja sävellys <b>Douglas Pashley</b>, ohjaus <b>Paul Garrington</b>, lavastus ja pukusuunnittelu <b>Nicky Shaw</b>, koreografia <b>Reija Wäre</b>, äänisuunnittelu <b>Richard Brooker</b>, valosuunnittelu <b>Timo Alhanen</b>, kampaus- ja maskeeraussuunnittelu <b>Pirjo Leino</b> ja taiteellinen tuotanto <b>Johan Storgård</b>.<br><br>Musikaalin esityskieli on suomi, ja se tekstitetään ruotsiksi sekä englanniksi. Kesto on noin 2 tuntia 30 minuuttia sisältäen väliajan.<br><br>Perheliput:<br>Perhelippu 4hlöä (2aikuista + 2 lasta tai 1 aikuinen + 3 lasta)<br>Perhelippu 3hlöä (2 aikuista + 1 lapsi tai 1 aikuinen + 2 lasta)<br><br>Pyörätuoliliput:<br>Pyörätuoli + avustaja samalla lipulla, ja saattajalle on varattu paikka pyörätuolipaikan vierestä. Pyörätuolipaikkoja on 4 kpl / näytös.<br><br>Muut avustajat:<br>Muut avustajaliput ostettavissa Lippu.fi puhelinpalvelusta ja myyntipisteistä.<br><br>Ryhmät:<br>Ryhmähinta -20% vähintään 20 hengen ryhmille ostettavissa Lippu.fi puhelinpalvelun kautta. <br /><br />  Visit event in our website: <a href='https://tapahtumainfo.fi/tapahtuma/2026/12/lumipallo-musikaali/431556'>Tapahtumainfo.fi</a></body></html>
END:VEVENT
END:VCALENDAR
