BEGIN:VCALENDAR
VERSION:2.0
PRODID:-//tapahtumainfo.fi//NONSGML WANAJA FESTIVAL - PERJANTAI - LIPULLA VAIN KERRAN SISÄÄN K-18//EN
METHOD:REQUEST
BEGIN:VEVENT
UID:20260422T162100-2059209690-tapahtumainfo.fi
DTSTAMP:20260422T162100
DTSTART:20260703T220000Z
DTEND:20260703T020000Z
LOCATION:Linnanpuisto, Hämeenlinna
SUMMARY:WANAJA FESTIVAL - PERJANTAI - LIPULLA VAIN KERRAN SISÄÄN K-18
DESCRIPTION:<html><head></head><body><b>Ennätystahtia myynyt Wanaja Festival 2026 julkaisee kaikki esiintyjät– mukana Eppu Normaalin, Nylon Beatin ja KUUMAAn seurana Jenni Vartiainen sekä Pete Parkkonen</b><br><br>Hämeenlinnan kauniissa ja vehreässä Linnanpuistossa 3.–4.7.2026 juhlittava <b>Wanaja Festival </b>vahvistaa ensi kesän ohjelmistoaan joukolla kotimaisia huippuartisteja ja näin tapahtuman koko esiintyjäkattaus on julkaistu. Samalla julkaisemme artistien esiintymispäivät.<br><br>Uusina kiinnityksinä festivaalille saapuvat <b>Jenni Vartiainen</b>, joka hurmaa vaikuttavalla ja koskettavalla esiintymisvoimallaan, sekä<b> Samuli Putro</b>, jonka kauniit lyriikat ja omaleimainen tulkintatapa pitävät kuulijan tiukasti otteessaan. Lisäksi Wanajan kesäiltaa värittävät<b> Pete Parkkosen</b> energinen karisma ja <b>Suvi Teräsniska</b>, jonka rakastetut laulut ovat löytäneet tiensä suomalaisten sydämiin jo vuosien ajan. Oman vahvan lisänsä kokonaisuuteen tuo myös<b> Irina</b>, jonka moderni poprock ja elämänmakuiset tarinat pääsevät oikeuksiinsa livenä.<br><br>Aiemmin festivaali on julkistanut jo joukon kotimaisen musiikin suurimpia nimiä. Suomalaisen rockin kiistaton legenda<b> Eppu Normaali</b> esiintyy Wanajassa viimeistä kertaa ikinä Hämeenlinnassa, jättäen jäähyväiset paikalliselle yleisölle. Nostalgian ystäviä hemmotellaan, kun ikoninen<b> Nylon Beat</b> tekee paluun lavoille. Tämän lisäksi Wanaja Festivalin lavalla nähdään tauolta keikkakentälle palaava <b>VESALA</b>, nykypopin kuningatar <b>BESS</b> sekä riehakas ja hyväntuulinen <b>Komiat.</b><br><br><b>Wanaja Festival 2026 myy ennätystahtiin</b><br><br>”<i>Lipunmyynti käy kaikkien aikojen ennätysvauhtia - kattaus on tänä vuonna todella kova! Omat liput festarille kannattaa varmistaa hyvissä ajoin ja varmistaa pääsy heinäkuun Wanaja Festivalille, erityisesti VIP-liput liikkuvat perinteisesti lujaa vauhtia ja myydään ennakosta loppuun.</i>”, kertoo Nelonen Media Liven Head of Production Heidi Rannantie.<br><br>Wanaja Festival tarjoaa jälleen kahden päivän ajan kotimaisen livemusiikin parhaimmistoa, kesälomakauden parasta kesäistä tunnelmaa ja laadukasta palvelua Hämeenlinnan luonnonkauniissa Linnanpuistossa.<br><br><b>WANAJA FESTIVAL 3.-4.7.2026<br>Linnanpuisto, Hämeenlinna</b><br><br><b>OHJELMA</b><br><br>Perjantai 3.7.2026<br>Nylon Beat, KUUMAA, BESS, Pete Parkkonen, Suvi Teräsniska<br><br>Lauantai 4.7.2026<br>Eppu Normaali, Jenni Vartiainen, VESALA, Komiat, Samuli Putro, Irina<br><br>Muutokset ohjelmaan mahdollisia. Tarkista aina ajantasaiset tiedot festivaalin omilta nettisivuilta.<br><br><a href="https://www.wanajafestival.fi" target="”_blank”">www.wanajafestival.fi</a><br><a href="https://www.facebook.com/wanajafestival" target="”_blank”">www.facebook.com/wanajafestival</a><br>@wanajafestival #wanajafestival<br><br><i>Nelonen Media Live on tapahtumatuotantoon erikoistunut yritys, joka tuottaa tapahtumia, festivaaleja ja konsertteja eri puolella Suomea. Nelonen Media Liven tuottamia festivaaleja ovat mm. Himos Juhannus, Tikkurila Festivaali, Suomipop Festivaalit Jyväskylässä ja Oulussa sekä Kuopiorock –festivaali. Nelonen Media Live on osa Sanoma-konsernia</i>. <br /><br />  Visit event in our website: <a href='https://tapahtumainfo.fi/tapahtuma/2026/07/wanaja-festival-perjantai-lipulla-vain-kerran-sisaan-k-18/431577'>Tapahtumainfo.fi</a></body></html>
END:VEVENT
END:VCALENDAR
