BEGIN:VCALENDAR
VERSION:2.0
PRODID:-//tapahtumainfo.fi//NONSGML WICKED//EN
METHOD:REQUEST
BEGIN:VEVENT
UID:20260426T020657-1963109605-tapahtumainfo.fi
DTSTAMP:20260426T020657
DTSTART:20261107T183000Z
DTEND:20261107T020000Z
LOCATION:TTT Suuri näyttämö
SUMMARY:WICKED
DESCRIPTION:<html><head></head><body> <br /><br />  Visit event in our website: <a href='https://tapahtumainfo.fi/tapahtuma/2026/11/wicked/431625'>Tapahtumainfo.fi</a></body></html>
END:VEVENT
END:VCALENDAR
