BEGIN:VCALENDAR
VERSION:2.0
PRODID:-//tapahtumainfo.fi//NONSGML WICKED//EN
METHOD:REQUEST
BEGIN:VEVENT
UID:20260423T035754-1829539250-tapahtumainfo.fi
DTSTAMP:20260423T035754
DTSTART:20261114T130000Z
DTEND:20261114T020000Z
LOCATION:TTT Suuri näyttämö
SUMMARY:WICKED
DESCRIPTION:<html><head></head><body> <br /><br />  Visit event in our website: <a href='https://tapahtumainfo.fi/tapahtuma/2026/11/wicked/431627'>Tapahtumainfo.fi</a></body></html>
END:VEVENT
END:VCALENDAR
