BEGIN:VCALENDAR
VERSION:2.0
PRODID:-//tapahtumainfo.fi//NONSGML Logomon terassikesä 2026: PEPE & SAIMAA (Turun taiteiden yö) K-18//EN
METHOD:REQUEST
BEGIN:VEVENT
UID:20260421T101320-1699524848-tapahtumainfo.fi
DTSTAMP:20260421T101320
DTSTART:20260813T180000Z
DTEND:20260813T020000Z
LOCATION:Logomo
SUMMARY:Logomon terassikesä 2026: PEPE & SAIMAA (Turun taiteiden yö) K-18
DESCRIPTION:<html><head></head><body> <br /><br />  Visit event in our website: <a href='https://tapahtumainfo.fi/tapahtuma/2026/08/logomon-terassikesa-2026-pepe-saimaa-turun-taiteiden-yo-k-18/431642'>Tapahtumainfo.fi</a></body></html>
END:VEVENT
END:VCALENDAR
