BEGIN:VCALENDAR
VERSION:2.0
PRODID:-//tapahtumainfo.fi//NONSGML Club For Five//EN
METHOD:REQUEST
BEGIN:VEVENT
UID:20260423T014832-1691956696-tapahtumainfo.fi
DTSTAMP:20260423T014832
DTSTART:20260629T180000Z
DTEND:20260629T020000Z
LOCATION:Saarijärven koulu- ja kulttuurikeskus
SUMMARY:Club For Five
DESCRIPTION:<html><head></head><body>Lions Club Alahärmä järjestää hyväntekeväisyyskonsertin jossa saajina ovat diakoniatoiminta sekä nuoret.<br><br>Club For Fiven kirkkokonsertti on akustinen vokaalimusiikin hetki, jossa kuulija kuljetetaan hiljentymään ja viihtymään yhtyeen musiikin parissa.<br><br>Konsertti sisältää suomalaisille tunnelmallisia ja suomalaisille rakkaita lauluja yhtyeen uran varrelta. Taidokas viisikko kuljettaa kuulijaa taidokkaasti läpi erilaisten tunnelmien ja musiikin tyylilajien.<br><br>Club For Five on Suomen tunnetuimpia a cappella -yhtyeitä ja saavuttanut suurta suosiota myös ulkomailla. Yhtye on julkaissut 13 studioalbumia, joista 6 on myynyt kultaa.<br><br>Club For Five:<br>Maija Sariola (sopraano)<br>Saima Haapanen (altto)<br>Jouni Kannisto (tenori)<br>Juha Viitala (baritoni)<br>Tuukka Haapaniemi (basso)<br><br>Avustajat eivät tarvitse omaa lippua. Alle 10v lapset ilmaiseksi. <br /><br />  Visit event in our website: <a href='https://tapahtumainfo.fi/tapahtuma/2026/06/club-for-five/431646'>Tapahtumainfo.fi</a></body></html>
END:VEVENT
END:VCALENDAR
